BEGIN:VCALENDAR
VERSION:2.0
PRODID:-//Taras Sub Diving Center - ECPv6.15.13//NONSGML v1.0//EN
CALSCALE:GREGORIAN
METHOD:PUBLISH
X-ORIGINAL-URL:https://www.tarasub.it
X-WR-CALDESC:Eventi per Taras Sub Diving Center
REFRESH-INTERVAL;VALUE=DURATION:PT1H
X-Robots-Tag:noindex
X-PUBLISHED-TTL:PT1H
BEGIN:VTIMEZONE
TZID:Europe/Rome
BEGIN:DAYLIGHT
TZOFFSETFROM:+0100
TZOFFSETTO:+0200
TZNAME:CEST
DTSTART:20230326T010000
END:DAYLIGHT
BEGIN:STANDARD
TZOFFSETFROM:+0200
TZOFFSETTO:+0100
TZNAME:CET
DTSTART:20231029T010000
END:STANDARD
BEGIN:DAYLIGHT
TZOFFSETFROM:+0100
TZOFFSETTO:+0200
TZNAME:CEST
DTSTART:20240331T010000
END:DAYLIGHT
BEGIN:STANDARD
TZOFFSETFROM:+0200
TZOFFSETTO:+0100
TZNAME:CET
DTSTART:20241027T010000
END:STANDARD
BEGIN:DAYLIGHT
TZOFFSETFROM:+0100
TZOFFSETTO:+0200
TZNAME:CEST
DTSTART:20250330T010000
END:DAYLIGHT
BEGIN:STANDARD
TZOFFSETFROM:+0200
TZOFFSETTO:+0100
TZNAME:CET
DTSTART:20251026T010000
END:STANDARD
BEGIN:DAYLIGHT
TZOFFSETFROM:+0100
TZOFFSETTO:+0200
TZNAME:CEST
DTSTART:20260329T010000
END:DAYLIGHT
BEGIN:STANDARD
TZOFFSETFROM:+0200
TZOFFSETTO:+0100
TZNAME:CET
DTSTART:20261025T010000
END:STANDARD
END:VTIMEZONE
BEGIN:VEVENT
DTSTART;TZID=Europe/Rome:20250621T093000
DTEND;TZID=Europe/Rome:20250621T123000
DTSTAMP:20260420T024501
CREATED:20250510T203459Z
LAST-MODIFIED:20250510T203459Z
UID:8620-1750498200-1750509000@www.tarasub.it
SUMMARY:Passeggiata Gommone Avvistamento Delfini e Snorkeling
DESCRIPTION:Luogo incontro: Cantiere navale Cantieri Del Sud\, Viale Jonio\, 150\, 74123 Taranto TA \nLeggi i dettagli dell’escursione \n  \nPer informazioni e prenotazioni contattare Luigi allo 3687787407
URL:https://www.tarasub.it/immersione/passeggiata-gommone-avvistamento-delfini-e-snorkeling-168/
LOCATION:Golfo di Taranto
CATEGORIES:Avvistamento delfini
ORGANIZER;CN="Taras Sub Diving Center":MAILTO:info@tarasub.it
END:VEVENT
BEGIN:VEVENT
DTSTART;TZID=Europe/Rome:20250621T090000
DTEND;TZID=Europe/Rome:20250621T110000
DTSTAMP:20260420T024501
CREATED:20250506T213735Z
LAST-MODIFIED:20250506T213735Z
UID:8579-1750496400-1750503600@www.tarasub.it
SUMMARY:Immersione gommone per brevetti Open
DESCRIPTION:Luogo incontro: camping Sun Bay sito in Taranto via Lido Bruno località San Vito \nLeggi i dettagli del punto di immersione
URL:https://www.tarasub.it/immersione/immersione-gommone-per-brevetti-open-47/
LOCATION:taranto
CATEGORIES:Gommone
ORGANIZER;CN="Taras Sub Diving Center":MAILTO:info@tarasub.it
END:VEVENT
BEGIN:VEVENT
DTSTART;TZID=Europe/Rome:20250615T093000
DTEND;TZID=Europe/Rome:20250615T123000
DTSTAMP:20260420T024501
CREATED:20250510T203113Z
LAST-MODIFIED:20250510T203415Z
UID:8619-1749979800-1749990600@www.tarasub.it
SUMMARY:Passeggiata Gommone Avvistamento Delfini e Snorkeling
DESCRIPTION:Luogo incontro: Cantiere navale Cantieri Del Sud\, Viale Jonio\, 150\, 74123 Taranto TA \nLeggi i dettagli dell’escursione \n  \nPer informazioni e prenotazioni contattare Luigi allo 3687787407
URL:https://www.tarasub.it/immersione/passeggiata-gommone-avvistamento-delfini-e-snorkeling-167/
LOCATION:Golfo di Taranto
CATEGORIES:Avvistamento delfini
ORGANIZER;CN="Taras Sub Diving Center":MAILTO:info@tarasub.it
END:VEVENT
BEGIN:VEVENT
DTSTART;TZID=Europe/Rome:20250615T090000
DTEND;TZID=Europe/Rome:20250615T110000
DTSTAMP:20260420T024501
CREATED:20250506T213645Z
LAST-MODIFIED:20250506T213645Z
UID:8578-1749978000-1749985200@www.tarasub.it
SUMMARY:Immersione gommone per brevetti Open
DESCRIPTION:Luogo incontro: camping Sun Bay sito in Taranto via Lido Bruno località San Vito \nLeggi i dettagli del punto di immersione
URL:https://www.tarasub.it/immersione/immersione-gommone-per-brevetti-open-46/
LOCATION:taranto
CATEGORIES:Gommone
ORGANIZER;CN="Taras Sub Diving Center":MAILTO:info@tarasub.it
END:VEVENT
BEGIN:VEVENT
DTSTART;TZID=Europe/Rome:20250614T093000
DTEND;TZID=Europe/Rome:20250614T123000
DTSTAMP:20260420T024501
CREATED:20250510T203029Z
LAST-MODIFIED:20250510T203029Z
UID:8618-1749893400-1749904200@www.tarasub.it
SUMMARY:Passeggiata Gommone Avvistamento Delfini e Snorkeling
DESCRIPTION:Luogo incontro: Cantiere navale Cantieri Del Sud\, Viale Jonio\, 150\, 74123 Taranto TA \nLeggi i dettagli dell’escursione \n  \nPer informazioni e prenotazioni contattare Luigi allo 3687787407
URL:https://www.tarasub.it/immersione/passeggiata-gommone-avvistamento-delfini-e-snorkeling-166/
LOCATION:Golfo di Taranto
CATEGORIES:Avvistamento delfini
ORGANIZER;CN="Taras Sub Diving Center":MAILTO:info@tarasub.it
END:VEVENT
BEGIN:VEVENT
DTSTART;TZID=Europe/Rome:20250614T090000
DTEND;TZID=Europe/Rome:20250614T110000
DTSTAMP:20260420T024501
CREATED:20250506T213532Z
LAST-MODIFIED:20250506T213532Z
UID:8577-1749891600-1749898800@www.tarasub.it
SUMMARY:Immersione gommone per brevetti Open
DESCRIPTION:Luogo incontro: camping Sun Bay sito in Taranto via Lido Bruno località San Vito \nLeggi i dettagli del punto di immersione
URL:https://www.tarasub.it/immersione/immersione-gommone-per-brevetti-open-45/
LOCATION:taranto
CATEGORIES:Gommone
ORGANIZER;CN="Taras Sub Diving Center":MAILTO:info@tarasub.it
END:VEVENT
BEGIN:VEVENT
DTSTART;TZID=Europe/Rome:20250608T090000
DTEND;TZID=Europe/Rome:20250608T110000
DTSTAMP:20260420T024501
CREATED:20250506T213433Z
LAST-MODIFIED:20250506T213433Z
UID:8576-1749373200-1749380400@www.tarasub.it
SUMMARY:Immersione gommone per brevetti Open
DESCRIPTION:Luogo incontro: camping Sun Bay sito in Taranto via Lido Bruno località San Vito \nLeggi i dettagli del punto di immersione
URL:https://www.tarasub.it/immersione/immersione-gommone-per-brevetti-open-44/
LOCATION:taranto
CATEGORIES:Gommone
ORGANIZER;CN="Taras Sub Diving Center":MAILTO:info@tarasub.it
END:VEVENT
BEGIN:VEVENT
DTSTART;TZID=Europe/Rome:20250607T090000
DTEND;TZID=Europe/Rome:20250607T110000
DTSTAMP:20260420T024501
CREATED:20250506T213354Z
LAST-MODIFIED:20250506T213354Z
UID:8575-1749286800-1749294000@www.tarasub.it
SUMMARY:Immersione gommone per brevetti Open
DESCRIPTION:Luogo incontro: camping Sun Bay sito in Taranto via Lido Bruno località San Vito \nLeggi i dettagli del punto di immersione
URL:https://www.tarasub.it/immersione/immersione-gommone-per-brevetti-open-43/
LOCATION:taranto
CATEGORIES:Gommone
ORGANIZER;CN="Taras Sub Diving Center":MAILTO:info@tarasub.it
END:VEVENT
BEGIN:VEVENT
DTSTART;TZID=Europe/Rome:20250602T090000
DTEND;TZID=Europe/Rome:20250602T110000
DTSTAMP:20260420T024501
CREATED:20250506T211958Z
LAST-MODIFIED:20250506T211958Z
UID:8557-1748854800-1748862000@www.tarasub.it
SUMMARY:Immersione gommone per brevetti Open
DESCRIPTION:Luogo incontro: camping Sun Bay sito in Taranto via Lido Bruno località San Vito \nLeggi i dettagli del punto di immersione
URL:https://www.tarasub.it/immersione/immersione-gommone-per-brevetti-open-42/
LOCATION:taranto
CATEGORIES:Gommone
ORGANIZER;CN="Taras Sub Diving Center":MAILTO:info@tarasub.it
END:VEVENT
BEGIN:VEVENT
DTSTART;TZID=Europe/Rome:20250601T090000
DTEND;TZID=Europe/Rome:20250601T110000
DTSTAMP:20260420T024501
CREATED:20250506T211903Z
LAST-MODIFIED:20250506T211903Z
UID:8565-1748768400-1748775600@www.tarasub.it
SUMMARY:Immersione gommone per brevetti Open
DESCRIPTION:Luogo incontro: camping Sun Bay sito in Taranto via Lido Bruno località San Vito \nLeggi i dettagli del punto di immersione
URL:https://www.tarasub.it/immersione/immersione-gommone-per-brevetti-open-41/
LOCATION:taranto
CATEGORIES:Gommone
ORGANIZER;CN="Taras Sub Diving Center":MAILTO:info@tarasub.it
END:VEVENT
BEGIN:VEVENT
DTSTART;TZID=Europe/Rome:20250531T090000
DTEND;TZID=Europe/Rome:20250531T110000
DTSTAMP:20260420T024501
CREATED:20250506T211824Z
LAST-MODIFIED:20250506T211824Z
UID:8564-1748682000-1748689200@www.tarasub.it
SUMMARY:Immersione gommone per brevetti Open
DESCRIPTION:Luogo incontro: camping Sun Bay sito in Taranto via Lido Bruno località San Vito \nLeggi i dettagli del punto di immersione
URL:https://www.tarasub.it/immersione/immersione-gommone-per-brevetti-open-40/
LOCATION:taranto
CATEGORIES:Gommone
ORGANIZER;CN="Taras Sub Diving Center":MAILTO:info@tarasub.it
END:VEVENT
BEGIN:VEVENT
DTSTART;TZID=Europe/Rome:20250525T090000
DTEND;TZID=Europe/Rome:20250525T110000
DTSTAMP:20260420T024501
CREATED:20250506T211710Z
LAST-MODIFIED:20250506T211710Z
UID:8563-1748163600-1748170800@www.tarasub.it
SUMMARY:Immersione gommone per brevetti Open
DESCRIPTION:Luogo incontro: camping Sun Bay sito in Taranto via Lido Bruno località San Vito \nLeggi i dettagli del punto di immersione
URL:https://www.tarasub.it/immersione/immersione-gommone-per-brevetti-open-39/
LOCATION:taranto
CATEGORIES:Gommone
ORGANIZER;CN="Taras Sub Diving Center":MAILTO:info@tarasub.it
END:VEVENT
BEGIN:VEVENT
DTSTART;TZID=Europe/Rome:20250524T090000
DTEND;TZID=Europe/Rome:20250524T110000
DTSTAMP:20260420T024501
CREATED:20250506T211624Z
LAST-MODIFIED:20250506T211624Z
UID:8562-1748077200-1748084400@www.tarasub.it
SUMMARY:Immersione gommone per brevetti Open
DESCRIPTION:Luogo incontro: camping Sun Bay sito in Taranto via Lido Bruno località San Vito \nLeggi i dettagli del punto di immersione
URL:https://www.tarasub.it/immersione/immersione-gommone-per-brevetti-open-38/
LOCATION:taranto
CATEGORIES:Gommone
ORGANIZER;CN="Taras Sub Diving Center":MAILTO:info@tarasub.it
END:VEVENT
BEGIN:VEVENT
DTSTART;TZID=Europe/Rome:20250518T090000
DTEND;TZID=Europe/Rome:20250518T110000
DTSTAMP:20260420T024501
CREATED:20250506T211537Z
LAST-MODIFIED:20250506T211537Z
UID:8561-1747558800-1747566000@www.tarasub.it
SUMMARY:Immersione gommone per brevetti Open
DESCRIPTION:Luogo incontro: camping Sun Bay sito in Taranto via Lido Bruno località San Vito \nLeggi i dettagli del punto di immersione
URL:https://www.tarasub.it/immersione/immersione-gommone-per-brevetti-open-37/
CATEGORIES:Gommone
ORGANIZER;CN="Taras Sub Diving Center":MAILTO:info@tarasub.it
END:VEVENT
BEGIN:VEVENT
DTSTART;TZID=Europe/Rome:20250517T090000
DTEND;TZID=Europe/Rome:20250517T110000
DTSTAMP:20260420T024501
CREATED:20250506T211453Z
LAST-MODIFIED:20250506T211453Z
UID:8560-1747472400-1747479600@www.tarasub.it
SUMMARY:Immersione gommone per brevetti Open
DESCRIPTION:Luogo incontro: camping Sun Bay sito in Taranto via Lido Bruno località San Vito \nLeggi i dettagli del punto di immersione
URL:https://www.tarasub.it/immersione/immersione-gommone-per-brevetti-open-36/
LOCATION:taranto
CATEGORIES:Gommone
ORGANIZER;CN="Taras Sub Diving Center":MAILTO:info@tarasub.it
END:VEVENT
BEGIN:VEVENT
DTSTART;TZID=Europe/Rome:20250511T090000
DTEND;TZID=Europe/Rome:20250511T110000
DTSTAMP:20260420T024501
CREATED:20250506T211348Z
LAST-MODIFIED:20250506T211348Z
UID:8559-1746954000-1746961200@www.tarasub.it
SUMMARY:Immersione gommone per brevetti Open
DESCRIPTION:Luogo incontro: camping Sun Bay sito in Taranto via Lido Bruno località San Vito \nLeggi i dettagli del punto di immersione
URL:https://www.tarasub.it/immersione/immersione-gommone-per-brevetti-open-35/
LOCATION:taranto
CATEGORIES:Gommone
ORGANIZER;CN="Taras Sub Diving Center":MAILTO:info@tarasub.it
END:VEVENT
BEGIN:VEVENT
DTSTART;TZID=Europe/Rome:20250510T090000
DTEND;TZID=Europe/Rome:20250510T110000
DTSTAMP:20260420T024501
CREATED:20250506T211144Z
LAST-MODIFIED:20250506T211144Z
UID:8558-1746867600-1746874800@www.tarasub.it
SUMMARY:Immersione gommone per brevetti Open
DESCRIPTION:Luogo incontro: camping Sun Bay sito in Taranto via Lido Bruno località San Vito \nLeggi i dettagli del punto di immersione
URL:https://www.tarasub.it/immersione/immersione-gommone-per-brevetti-open-34/
LOCATION:taranto
CATEGORIES:Gommone
ORGANIZER;CN="Taras Sub Diving Center":MAILTO:info@tarasub.it
END:VEVENT
BEGIN:VEVENT
DTSTART;TZID=Europe/Rome:20250501T090000
DTEND;TZID=Europe/Rome:20250501T110000
DTSTAMP:20260420T024501
CREATED:20250506T222957Z
LAST-MODIFIED:20250506T223110Z
UID:8607-1746090000-1746097200@www.tarasub.it
SUMMARY:Immersione gommone [Profonda] per brevetti Advanced
DESCRIPTION:Luogo incontro: camping Sun Bay sito in Taranto via Lido Bruno località San Vito \nLeggi i dettagli del punto di immersione
URL:https://www.tarasub.it/immersione/immersione-gommone-profonda-per-brevetti-advanced-41/
LOCATION:taranto
CATEGORIES:Gommone
ORGANIZER;CN="Taras Sub Diving Center":MAILTO:info@tarasub.it
END:VEVENT
BEGIN:VEVENT
DTSTART;TZID=Europe/Rome:20240929T093000
DTEND;TZID=Europe/Rome:20240929T123000
DTSTAMP:20260420T024501
CREATED:20240708T075752Z
LAST-MODIFIED:20240708T075752Z
UID:8228-1727602200-1727613000@www.tarasub.it
SUMMARY:Passeggiata Gommone Avvistamento Delfini e Snorkeling
DESCRIPTION:Luogo incontro: Cantiere navale Cantieri Del Sud\, Viale Jonio\, 150\, 74123 Taranto TA \nLeggi i dettagli dell’escursione \n  \nPer informazioni e prenotazioni contattare Luigi allo 3687787407
URL:https://www.tarasub.it/immersione/passeggiata-gommone-avvistamento-delfini-e-snorkeling-165/
LOCATION:Golfo di Taranto
CATEGORIES:Avvistamento delfini
ORGANIZER;CN="Taras Sub Diving Center":MAILTO:info@tarasub.it
END:VEVENT
BEGIN:VEVENT
DTSTART;TZID=Europe/Rome:20240928T093000
DTEND;TZID=Europe/Rome:20240928T123000
DTSTAMP:20260420T024501
CREATED:20240708T075724Z
LAST-MODIFIED:20240708T075724Z
UID:8227-1727515800-1727526600@www.tarasub.it
SUMMARY:Passeggiata Gommone Avvistamento Delfini e Snorkeling
DESCRIPTION:Luogo incontro: Cantiere navale Cantieri Del Sud\, Viale Jonio\, 150\, 74123 Taranto TA \nLeggi i dettagli dell’escursione \n  \nPer informazioni e prenotazioni contattare Luigi allo 3687787407
URL:https://www.tarasub.it/immersione/passeggiata-gommone-avvistamento-delfini-e-snorkeling-164/
LOCATION:Golfo di Taranto
CATEGORIES:Avvistamento delfini
ORGANIZER;CN="Taras Sub Diving Center":MAILTO:info@tarasub.it
END:VEVENT
BEGIN:VEVENT
DTSTART;TZID=Europe/Rome:20240922T093000
DTEND;TZID=Europe/Rome:20240922T123000
DTSTAMP:20260420T024501
CREATED:20240708T075656Z
LAST-MODIFIED:20240708T075656Z
UID:8226-1726997400-1727008200@www.tarasub.it
SUMMARY:Passeggiata Gommone Avvistamento Delfini e Snorkeling
DESCRIPTION:Luogo incontro: Cantiere navale Cantieri Del Sud\, Viale Jonio\, 150\, 74123 Taranto TA \nLeggi i dettagli dell’escursione \n  \nPer informazioni e prenotazioni contattare Luigi allo 3687787407
URL:https://www.tarasub.it/immersione/passeggiata-gommone-avvistamento-delfini-e-snorkeling-163/
LOCATION:Golfo di Taranto
CATEGORIES:Avvistamento delfini
ORGANIZER;CN="Taras Sub Diving Center":MAILTO:info@tarasub.it
END:VEVENT
BEGIN:VEVENT
DTSTART;TZID=Europe/Rome:20240921T093000
DTEND;TZID=Europe/Rome:20240921T123000
DTSTAMP:20260420T024501
CREATED:20240708T075625Z
LAST-MODIFIED:20240708T075625Z
UID:8225-1726911000-1726921800@www.tarasub.it
SUMMARY:Passeggiata Gommone Avvistamento Delfini e Snorkeling
DESCRIPTION:Luogo incontro: Cantiere navale Cantieri Del Sud\, Viale Jonio\, 150\, 74123 Taranto TA \nLeggi i dettagli dell’escursione \n  \nPer informazioni e prenotazioni contattare Luigi allo 3687787407
URL:https://www.tarasub.it/immersione/passeggiata-gommone-avvistamento-delfini-e-snorkeling-162/
LOCATION:Golfo di Taranto
CATEGORIES:Avvistamento delfini
ORGANIZER;CN="Taras Sub Diving Center":MAILTO:info@tarasub.it
END:VEVENT
BEGIN:VEVENT
DTSTART;TZID=Europe/Rome:20240915T093000
DTEND;TZID=Europe/Rome:20240915T123000
DTSTAMP:20260420T024501
CREATED:20240708T075600Z
LAST-MODIFIED:20240708T075600Z
UID:8224-1726392600-1726403400@www.tarasub.it
SUMMARY:Passeggiata Gommone Avvistamento Delfini e Snorkeling
DESCRIPTION:Luogo incontro: Cantiere navale Cantieri Del Sud\, Viale Jonio\, 150\, 74123 Taranto TA \nLeggi i dettagli dell’escursione \n  \nPer informazioni e prenotazioni contattare Luigi allo 3687787407
URL:https://www.tarasub.it/immersione/passeggiata-gommone-avvistamento-delfini-e-snorkeling-161/
LOCATION:Golfo di Taranto
CATEGORIES:Avvistamento delfini
ORGANIZER;CN="Taras Sub Diving Center":MAILTO:info@tarasub.it
END:VEVENT
BEGIN:VEVENT
DTSTART;TZID=Europe/Rome:20240914T093000
DTEND;TZID=Europe/Rome:20240914T123000
DTSTAMP:20260420T024501
CREATED:20240708T075534Z
LAST-MODIFIED:20240708T075534Z
UID:8223-1726306200-1726317000@www.tarasub.it
SUMMARY:Passeggiata Gommone Avvistamento Delfini e Snorkeling
DESCRIPTION:Luogo incontro: Cantiere navale Cantieri Del Sud\, Viale Jonio\, 150\, 74123 Taranto TA \nLeggi i dettagli dell’escursione \n  \nPer informazioni e prenotazioni contattare Luigi allo 3687787407
URL:https://www.tarasub.it/immersione/passeggiata-gommone-avvistamento-delfini-e-snorkeling-160/
LOCATION:Golfo di Taranto
CATEGORIES:Avvistamento delfini
ORGANIZER;CN="Taras Sub Diving Center":MAILTO:info@tarasub.it
END:VEVENT
BEGIN:VEVENT
DTSTART;TZID=Europe/Rome:20240908T093000
DTEND;TZID=Europe/Rome:20240908T123000
DTSTAMP:20260420T024501
CREATED:20240708T075459Z
LAST-MODIFIED:20240708T075459Z
UID:8222-1725787800-1725798600@www.tarasub.it
SUMMARY:Passeggiata Gommone Avvistamento Delfini e Snorkeling
DESCRIPTION:Luogo incontro: Cantiere navale Cantieri Del Sud\, Viale Jonio\, 150\, 74123 Taranto TA \nLeggi i dettagli dell’escursione \n  \nPer informazioni e prenotazioni contattare Luigi allo 3687787407
URL:https://www.tarasub.it/immersione/passeggiata-gommone-avvistamento-delfini-e-snorkeling-159/
LOCATION:Golfo di Taranto
CATEGORIES:Avvistamento delfini
ORGANIZER;CN="Taras Sub Diving Center":MAILTO:info@tarasub.it
END:VEVENT
BEGIN:VEVENT
DTSTART;TZID=Europe/Rome:20240907T093000
DTEND;TZID=Europe/Rome:20240907T123000
DTSTAMP:20260420T024501
CREATED:20240708T075432Z
LAST-MODIFIED:20240708T075432Z
UID:8219-1725701400-1725712200@www.tarasub.it
SUMMARY:Passeggiata Gommone Avvistamento Delfini e Snorkeling
DESCRIPTION:Luogo incontro: Cantiere navale Cantieri Del Sud\, Viale Jonio\, 150\, 74123 Taranto TA \nLeggi i dettagli dell’escursione \n  \nPer informazioni e prenotazioni contattare Luigi allo 3687787407
URL:https://www.tarasub.it/immersione/passeggiata-gommone-avvistamento-delfini-e-snorkeling-158/
LOCATION:Golfo di Taranto
CATEGORIES:Avvistamento delfini
ORGANIZER;CN="Taras Sub Diving Center":MAILTO:info@tarasub.it
END:VEVENT
BEGIN:VEVENT
DTSTART;TZID=Europe/Rome:20240906T190000
DTEND;TZID=Europe/Rome:20240906T210000
DTSTAMP:20260420T024501
CREATED:20240708T092503Z
LAST-MODIFIED:20240708T092503Z
UID:8246-1725649200-1725656400@www.tarasub.it
SUMMARY:Immersione gommone (Notturna)
DESCRIPTION:Luogo incontro: camping Sun Bay sito in Taranto via Lido Bruno località San Vito \nLeggi i dettagli del punto di immersione
URL:https://www.tarasub.it/immersione/immersione-gommone-notturna-18/
CATEGORIES:Notturna
ORGANIZER;CN="Taras Sub Diving Center":MAILTO:info@tarasub.it
END:VEVENT
BEGIN:VEVENT
DTSTART;TZID=Europe/Rome:20240901T093000
DTEND;TZID=Europe/Rome:20240901T123000
DTSTAMP:20260420T024501
CREATED:20240708T075113Z
LAST-MODIFIED:20240708T075113Z
UID:8211-1725183000-1725193800@www.tarasub.it
SUMMARY:Passeggiata Gommone Avvistamento Delfini e Snorkeling
DESCRIPTION:Luogo incontro: Cantiere navale Cantieri Del Sud\, Viale Jonio\, 150\, 74123 Taranto TA \nLeggi i dettagli dell’escursione \n  \nPer informazioni e prenotazioni contattare Luigi allo 3687787407
URL:https://www.tarasub.it/immersione/passeggiata-gommone-avvistamento-delfini-e-snorkeling-157/
LOCATION:Golfo di Taranto
CATEGORIES:Avvistamento delfini
ORGANIZER;CN="Taras Sub Diving Center":MAILTO:info@tarasub.it
END:VEVENT
BEGIN:VEVENT
DTSTART;TZID=Europe/Rome:20240831T110000
DTEND;TZID=Europe/Rome:20240831T130000
DTSTAMP:20260420T024501
CREATED:20240708T145106Z
LAST-MODIFIED:20240708T145106Z
UID:8431-1725102000-1725109200@www.tarasub.it
SUMMARY:Immersione gommone per brevetti Open
DESCRIPTION:Luogo incontro: camping Sun Bay sito in Taranto via Lido Bruno località San Vito \nLeggi i dettagli del punto di immersione
URL:https://www.tarasub.it/immersione/immersione-gommone-per-brevetti-open-30/
CATEGORIES:Gommone
ORGANIZER;CN="Taras Sub Diving Center":MAILTO:info@tarasub.it
END:VEVENT
BEGIN:VEVENT
DTSTART;TZID=Europe/Rome:20240831T093000
DTEND;TZID=Europe/Rome:20240831T123000
DTSTAMP:20260420T024502
CREATED:20240708T075044Z
LAST-MODIFIED:20240708T075044Z
UID:8210-1725096600-1725107400@www.tarasub.it
SUMMARY:Passeggiata Gommone Avvistamento Delfini e Snorkeling
DESCRIPTION:Luogo incontro: Cantiere navale Cantieri Del Sud\, Viale Jonio\, 150\, 74123 Taranto TA \nLeggi i dettagli dell’escursione \n  \nPer informazioni e prenotazioni contattare Luigi allo 3687787407
URL:https://www.tarasub.it/immersione/passeggiata-gommone-avvistamento-delfini-e-snorkeling-156/
LOCATION:Golfo di Taranto
CATEGORIES:Avvistamento delfini
ORGANIZER;CN="Taras Sub Diving Center":MAILTO:info@tarasub.it
END:VEVENT
END:VCALENDAR