BEGIN:VCALENDAR
VERSION:2.0
PRODID:-//Taras Sub Diving Center - ECPv6.15.13//NONSGML v1.0//EN
CALSCALE:GREGORIAN
METHOD:PUBLISH
X-ORIGINAL-URL:https://www.tarasub.it
X-WR-CALDESC:Eventi per Taras Sub Diving Center
REFRESH-INTERVAL;VALUE=DURATION:PT1H
X-Robots-Tag:noindex
X-PUBLISHED-TTL:PT1H
BEGIN:VTIMEZONE
TZID:Europe/Rome
BEGIN:DAYLIGHT
TZOFFSETFROM:+0100
TZOFFSETTO:+0200
TZNAME:CEST
DTSTART:20230326T010000
END:DAYLIGHT
BEGIN:STANDARD
TZOFFSETFROM:+0200
TZOFFSETTO:+0100
TZNAME:CET
DTSTART:20231029T010000
END:STANDARD
BEGIN:DAYLIGHT
TZOFFSETFROM:+0100
TZOFFSETTO:+0200
TZNAME:CEST
DTSTART:20240331T010000
END:DAYLIGHT
BEGIN:STANDARD
TZOFFSETFROM:+0200
TZOFFSETTO:+0100
TZNAME:CET
DTSTART:20241027T010000
END:STANDARD
BEGIN:DAYLIGHT
TZOFFSETFROM:+0100
TZOFFSETTO:+0200
TZNAME:CEST
DTSTART:20250330T010000
END:DAYLIGHT
BEGIN:STANDARD
TZOFFSETFROM:+0200
TZOFFSETTO:+0100
TZNAME:CET
DTSTART:20251026T010000
END:STANDARD
END:VTIMEZONE
BEGIN:VEVENT
DTSTART;TZID=Europe/Rome:20240826T110000
DTEND;TZID=Europe/Rome:20240826T130000
DTSTAMP:20260420T091106
CREATED:20240708T144046Z
LAST-MODIFIED:20240708T144046Z
UID:8410-1724670000-1724677200@www.tarasub.it
SUMMARY:Immersione gommone per brevetti Open
DESCRIPTION:Luogo incontro: camping Sun Bay sito in Taranto via Lido Bruno località San Vito \nLeggi i dettagli del punto di immersione
URL:https://www.tarasub.it/immersione/immersione-gommone-per-brevetti-open-26/
CATEGORIES:Gommone
ORGANIZER;CN="Taras Sub Diving Center":MAILTO:info@tarasub.it
END:VEVENT
BEGIN:VEVENT
DTSTART;TZID=Europe/Rome:20240826T090000
DTEND;TZID=Europe/Rome:20240826T110000
DTSTAMP:20260420T091106
CREATED:20240708T143959Z
LAST-MODIFIED:20240708T143959Z
UID:8409-1724662800-1724670000@www.tarasub.it
SUMMARY:Immersione gommone [Profonda] per brevetti Advanced
DESCRIPTION:Luogo incontro: camping Sun Bay sito in Taranto via Lido Bruno località San Vito \nLeggi i dettagli del punto di immersione
URL:https://www.tarasub.it/immersione/immersione-gommone-profonda-per-brevetti-advanced-34/
CATEGORIES:Gommone
ORGANIZER;CN="Taras Sub Diving Center":MAILTO:info@tarasub.it
END:VEVENT
BEGIN:VEVENT
DTSTART;TZID=Europe/Rome:20240825T110000
DTEND;TZID=Europe/Rome:20240825T130000
DTSTAMP:20260420T091106
CREATED:20240708T143930Z
LAST-MODIFIED:20240708T143930Z
UID:8408-1724583600-1724590800@www.tarasub.it
SUMMARY:Immersione gommone per brevetti Open
DESCRIPTION:Luogo incontro: camping Sun Bay sito in Taranto via Lido Bruno località San Vito \nLeggi i dettagli del punto di immersione
URL:https://www.tarasub.it/immersione/immersione-gommone-per-brevetti-open-25/
CATEGORIES:Gommone
ORGANIZER;CN="Taras Sub Diving Center":MAILTO:info@tarasub.it
END:VEVENT
BEGIN:VEVENT
DTSTART;TZID=Europe/Rome:20240825T093000
DTEND;TZID=Europe/Rome:20240825T123000
DTSTAMP:20260420T091106
CREATED:20240708T074823Z
LAST-MODIFIED:20240708T074823Z
UID:8209-1724578200-1724589000@www.tarasub.it
SUMMARY:Passeggiata Gommone Avvistamento Delfini e Snorkeling
DESCRIPTION:Luogo incontro: Cantiere navale Cantieri Del Sud\, Viale Jonio\, 150\, 74123 Taranto TA \nLeggi i dettagli dell’escursione \n  \nPer informazioni e prenotazioni contattare Luigi allo 3687787407
URL:https://www.tarasub.it/immersione/passeggiata-gommone-avvistamento-delfini-e-snorkeling-155/
LOCATION:Golfo di Taranto
CATEGORIES:Avvistamento delfini
ORGANIZER;CN="Taras Sub Diving Center":MAILTO:info@tarasub.it
END:VEVENT
BEGIN:VEVENT
DTSTART;TZID=Europe/Rome:20240825T090000
DTEND;TZID=Europe/Rome:20240825T110000
DTSTAMP:20260420T091106
CREATED:20240708T143851Z
LAST-MODIFIED:20240708T143851Z
UID:8407-1724576400-1724583600@www.tarasub.it
SUMMARY:Immersione gommone [Profonda] per brevetti Advanced
DESCRIPTION:Luogo incontro: camping Sun Bay sito in Taranto via Lido Bruno località San Vito \nLeggi i dettagli del punto di immersione
URL:https://www.tarasub.it/immersione/immersione-gommone-profonda-per-brevetti-advanced-33/
CATEGORIES:Gommone
ORGANIZER;CN="Taras Sub Diving Center":MAILTO:info@tarasub.it
END:VEVENT
BEGIN:VEVENT
DTSTART;TZID=Europe/Rome:20240824T110000
DTEND;TZID=Europe/Rome:20240824T130000
DTSTAMP:20260420T091106
CREATED:20240708T143800Z
LAST-MODIFIED:20240708T143800Z
UID:8405-1724497200-1724504400@www.tarasub.it
SUMMARY:Immersione gommone per brevetti Open
DESCRIPTION:Luogo incontro: camping Sun Bay sito in Taranto via Lido Bruno località San Vito \nLeggi i dettagli del punto di immersione
URL:https://www.tarasub.it/immersione/immersione-gommone-per-brevetti-open-24/
CATEGORIES:Gommone
ORGANIZER;CN="Taras Sub Diving Center":MAILTO:info@tarasub.it
END:VEVENT
BEGIN:VEVENT
DTSTART;TZID=Europe/Rome:20240824T093000
DTEND;TZID=Europe/Rome:20240824T123000
DTSTAMP:20260420T091106
CREATED:20240708T074758Z
LAST-MODIFIED:20240708T074758Z
UID:8208-1724491800-1724502600@www.tarasub.it
SUMMARY:Passeggiata Gommone Avvistamento Delfini e Snorkeling
DESCRIPTION:Luogo incontro: Cantiere navale Cantieri Del Sud\, Viale Jonio\, 150\, 74123 Taranto TA \nLeggi i dettagli dell’escursione \n  \nPer informazioni e prenotazioni contattare Luigi allo 3687787407
URL:https://www.tarasub.it/immersione/passeggiata-gommone-avvistamento-delfini-e-snorkeling-154/
LOCATION:Golfo di Taranto
CATEGORIES:Avvistamento delfini
ORGANIZER;CN="Taras Sub Diving Center":MAILTO:info@tarasub.it
END:VEVENT
BEGIN:VEVENT
DTSTART;TZID=Europe/Rome:20240824T090000
DTEND;TZID=Europe/Rome:20240824T110000
DTSTAMP:20260420T091106
CREATED:20240708T143742Z
LAST-MODIFIED:20240708T143742Z
UID:8404-1724490000-1724497200@www.tarasub.it
SUMMARY:Immersione gommone [Profonda] per brevetti Advanced
DESCRIPTION:Luogo incontro: camping Sun Bay sito in Taranto via Lido Bruno località San Vito \nLeggi i dettagli del punto di immersione
URL:https://www.tarasub.it/immersione/immersione-gommone-profonda-per-brevetti-advanced-32/
CATEGORIES:Gommone
ORGANIZER;CN="Taras Sub Diving Center":MAILTO:info@tarasub.it
END:VEVENT
BEGIN:VEVENT
DTSTART;TZID=Europe/Rome:20240823T190000
DTEND;TZID=Europe/Rome:20240823T210000
DTSTAMP:20260420T091106
CREATED:20240708T092404Z
LAST-MODIFIED:20240708T092404Z
UID:8244-1724439600-1724446800@www.tarasub.it
SUMMARY:Immersione gommone (Notturna)
DESCRIPTION:Luogo incontro: camping Sun Bay sito in Taranto via Lido Bruno località San Vito \nLeggi i dettagli del punto di immersione
URL:https://www.tarasub.it/immersione/immersione-gommone-notturna-16/
CATEGORIES:Notturna
ORGANIZER;CN="Taras Sub Diving Center":MAILTO:info@tarasub.it
END:VEVENT
BEGIN:VEVENT
DTSTART;TZID=Europe/Rome:20240823T110000
DTEND;TZID=Europe/Rome:20240823T130000
DTSTAMP:20260420T091106
CREATED:20240708T145830Z
LAST-MODIFIED:20240708T145830Z
UID:8443-1724410800-1724418000@www.tarasub.it
SUMMARY:Immersione gommone per brevetti Open
DESCRIPTION:Luogo incontro: camping Sun Bay sito in Taranto via Lido Bruno località San Vito \nLeggi i dettagli del punto di immersione
URL:https://www.tarasub.it/immersione/immersione-gommone-per-brevetti-open-33/
CATEGORIES:Gommone
ORGANIZER;CN="Taras Sub Diving Center":MAILTO:info@tarasub.it
END:VEVENT
BEGIN:VEVENT
DTSTART;TZID=Europe/Rome:20240823T110000
DTEND;TZID=Europe/Rome:20240823T110000
DTSTAMP:20260420T091106
CREATED:20240708T143343Z
LAST-MODIFIED:20240708T143343Z
UID:8402-1724410800-1724410800@www.tarasub.it
SUMMARY:Immersione gommone per brevetti Open
DESCRIPTION:Luogo incontro: camping Sun Bay sito in Taranto via Lido Bruno località San Vito \nLeggi i dettagli del punto di immersione
URL:https://www.tarasub.it/immersione/immersione-gommone-per-brevetti-open-23/
ORGANIZER;CN="Taras Sub Diving Center":MAILTO:info@tarasub.it
END:VEVENT
BEGIN:VEVENT
DTSTART;TZID=Europe/Rome:20240823T093000
DTEND;TZID=Europe/Rome:20240823T123000
DTSTAMP:20260420T091106
CREATED:20240708T074727Z
LAST-MODIFIED:20240708T074727Z
UID:8207-1724405400-1724416200@www.tarasub.it
SUMMARY:Passeggiata Gommone Avvistamento Delfini e Snorkeling
DESCRIPTION:Luogo incontro: Cantiere navale Cantieri Del Sud\, Viale Jonio\, 150\, 74123 Taranto TA \nLeggi i dettagli dell’escursione \n  \nPer informazioni e prenotazioni contattare Luigi allo 3687787407
URL:https://www.tarasub.it/immersione/passeggiata-gommone-avvistamento-delfini-e-snorkeling-153/
LOCATION:Golfo di Taranto
CATEGORIES:Avvistamento delfini
ORGANIZER;CN="Taras Sub Diving Center":MAILTO:info@tarasub.it
END:VEVENT
BEGIN:VEVENT
DTSTART;TZID=Europe/Rome:20240823T090000
DTEND;TZID=Europe/Rome:20240823T110000
DTSTAMP:20260420T091106
CREATED:20240708T143121Z
LAST-MODIFIED:20240708T143121Z
UID:8400-1724403600-1724410800@www.tarasub.it
SUMMARY:Immersione gommone [Profonda] per brevetti Advanced
DESCRIPTION:Luogo incontro: camping Sun Bay sito in Taranto via Lido Bruno località San Vito \nLeggi i dettagli del punto di immersione
URL:https://www.tarasub.it/immersione/immersione-gommone-profonda-per-brevetti-advanced-31/
CATEGORIES:Gommone
ORGANIZER;CN="Taras Sub Diving Center":MAILTO:info@tarasub.it
END:VEVENT
BEGIN:VEVENT
DTSTART;TZID=Europe/Rome:20240822T110000
DTEND;TZID=Europe/Rome:20240822T130000
DTSTAMP:20260420T091106
CREATED:20240708T142930Z
LAST-MODIFIED:20240708T142930Z
UID:8398-1724324400-1724331600@www.tarasub.it
SUMMARY:Immersione gommone per brevetti Open
DESCRIPTION:Luogo incontro: camping Sun Bay sito in Taranto via Lido Bruno località San Vito \nLeggi i dettagli del punto di immersione
URL:https://www.tarasub.it/immersione/immersione-gommone-per-brevetti-open-22/
CATEGORIES:Gommone
ORGANIZER;CN="Taras Sub Diving Center":MAILTO:info@tarasub.it
END:VEVENT
BEGIN:VEVENT
DTSTART;TZID=Europe/Rome:20240822T093000
DTEND;TZID=Europe/Rome:20240822T123000
DTSTAMP:20260420T091106
CREATED:20240708T074511Z
LAST-MODIFIED:20240708T074511Z
UID:8206-1724319000-1724329800@www.tarasub.it
SUMMARY:Passeggiata Gommone Avvistamento Delfini e Snorkeling
DESCRIPTION:Luogo incontro: Cantiere navale Cantieri Del Sud\, Viale Jonio\, 150\, 74123 Taranto TA \nLeggi i dettagli dell’escursione \n  \nPer informazioni e prenotazioni contattare Luigi allo 3687787407
URL:https://www.tarasub.it/immersione/passeggiata-gommone-avvistamento-delfini-e-snorkeling-152/
LOCATION:Golfo di Taranto
CATEGORIES:Avvistamento delfini
ORGANIZER;CN="Taras Sub Diving Center":MAILTO:info@tarasub.it
END:VEVENT
BEGIN:VEVENT
DTSTART;TZID=Europe/Rome:20240822T090000
DTEND;TZID=Europe/Rome:20240822T110000
DTSTAMP:20260420T091106
CREATED:20240708T142800Z
LAST-MODIFIED:20240708T142800Z
UID:8396-1724317200-1724324400@www.tarasub.it
SUMMARY:Immersione gommone [Profonda] per brevetti Advanced
DESCRIPTION:Luogo incontro: camping Sun Bay sito in Taranto via Lido Bruno località San Vito \nLeggi i dettagli del punto di immersione
URL:https://www.tarasub.it/immersione/immersione-gommone-profonda-per-brevetti-advanced-29/
CATEGORIES:Gommone
ORGANIZER;CN="Taras Sub Diving Center":MAILTO:info@tarasub.it
END:VEVENT
BEGIN:VEVENT
DTSTART;TZID=Europe/Rome:20240821T110000
DTEND;TZID=Europe/Rome:20240821T130000
DTSTAMP:20260420T091106
CREATED:20240708T142625Z
LAST-MODIFIED:20240708T142625Z
UID:8394-1724238000-1724245200@www.tarasub.it
SUMMARY:Immersione gommone per brevetti Open
DESCRIPTION:Luogo incontro: camping Sun Bay sito in Taranto via Lido Bruno località San Vito \nLeggi i dettagli del punto di immersione
URL:https://www.tarasub.it/immersione/immersione-gommone-per-brevetti-open-20/
CATEGORIES:Gommone
ORGANIZER;CN="Taras Sub Diving Center":MAILTO:info@tarasub.it
END:VEVENT
BEGIN:VEVENT
DTSTART;TZID=Europe/Rome:20240821T093000
DTEND;TZID=Europe/Rome:20240821T123000
DTSTAMP:20260420T091106
CREATED:20240708T074445Z
LAST-MODIFIED:20240708T074445Z
UID:8205-1724232600-1724243400@www.tarasub.it
SUMMARY:Passeggiata Gommone Avvistamento Delfini e Snorkeling
DESCRIPTION:Luogo incontro: Cantiere navale Cantieri Del Sud\, Viale Jonio\, 150\, 74123 Taranto TA \nLeggi i dettagli dell’escursione \n  \nPer informazioni e prenotazioni contattare Luigi allo 3687787407
URL:https://www.tarasub.it/immersione/passeggiata-gommone-avvistamento-delfini-e-snorkeling-151/
LOCATION:Golfo di Taranto
CATEGORIES:Avvistamento delfini
ORGANIZER;CN="Taras Sub Diving Center":MAILTO:info@tarasub.it
END:VEVENT
BEGIN:VEVENT
DTSTART;TZID=Europe/Rome:20240821T090000
DTEND;TZID=Europe/Rome:20240821T110000
DTSTAMP:20260420T091106
CREATED:20240708T142523Z
LAST-MODIFIED:20240708T142523Z
UID:8392-1724230800-1724238000@www.tarasub.it
SUMMARY:Immersione gommone [Profonda] per brevetti Advanced
DESCRIPTION:Luogo incontro: camping Sun Bay sito in Taranto via Lido Bruno località San Vito \nLeggi i dettagli del punto di immersione
URL:https://www.tarasub.it/immersione/immersione-gommone-profonda-per-brevetti-advanced-27/
CATEGORIES:Gommone
ORGANIZER;CN="Taras Sub Diving Center":MAILTO:info@tarasub.it
END:VEVENT
BEGIN:VEVENT
DTSTART;TZID=Europe/Rome:20240820T110000
DTEND;TZID=Europe/Rome:20240820T130000
DTSTAMP:20260420T091106
CREATED:20240708T140922Z
LAST-MODIFIED:20240708T140922Z
UID:8355-1724151600-1724158800@www.tarasub.it
SUMMARY:Immersione gommone per brevetti Open
DESCRIPTION:Luogo incontro: camping Sun Bay sito in Taranto via Lido Bruno località San Vito \nLeggi i dettagli del punto di immersione
URL:https://www.tarasub.it/immersione/immersione-gommone-per-brevetti-open-18/
CATEGORIES:Gommone
ORGANIZER;CN="Taras Sub Diving Center":MAILTO:info@tarasub.it
END:VEVENT
BEGIN:VEVENT
DTSTART;TZID=Europe/Rome:20240820T093000
DTEND;TZID=Europe/Rome:20240820T123000
DTSTAMP:20260420T091106
CREATED:20240708T074419Z
LAST-MODIFIED:20240708T074419Z
UID:8204-1724146200-1724157000@www.tarasub.it
SUMMARY:Passeggiata Gommone Avvistamento Delfini e Snorkeling
DESCRIPTION:Luogo incontro: Cantiere navale Cantieri Del Sud\, Viale Jonio\, 150\, 74123 Taranto TA \nLeggi i dettagli dell’escursione \n  \nPer informazioni e prenotazioni contattare Luigi allo 3687787407
URL:https://www.tarasub.it/immersione/passeggiata-gommone-avvistamento-delfini-e-snorkeling-150/
LOCATION:Golfo di Taranto
CATEGORIES:Avvistamento delfini
ORGANIZER;CN="Taras Sub Diving Center":MAILTO:info@tarasub.it
END:VEVENT
BEGIN:VEVENT
DTSTART;TZID=Europe/Rome:20240820T090000
DTEND;TZID=Europe/Rome:20240820T110000
DTSTAMP:20260420T091106
CREATED:20240708T140857Z
LAST-MODIFIED:20240708T140857Z
UID:8354-1724144400-1724151600@www.tarasub.it
SUMMARY:Immersione gommone [Profonda] per brevetti Advanced
DESCRIPTION:Luogo incontro: camping Sun Bay sito in Taranto via Lido Bruno località San Vito \nLeggi i dettagli del punto di immersione
URL:https://www.tarasub.it/immersione/immersione-gommone-profonda-per-brevetti-advanced-25/
CATEGORIES:Gommone
ORGANIZER;CN="Taras Sub Diving Center":MAILTO:info@tarasub.it
END:VEVENT
BEGIN:VEVENT
DTSTART;TZID=Europe/Rome:20240819T110000
DTEND;TZID=Europe/Rome:20240819T130000
DTSTAMP:20260420T091106
CREATED:20240708T140818Z
LAST-MODIFIED:20240708T140818Z
UID:8353-1724065200-1724072400@www.tarasub.it
SUMMARY:Immersione gommone per brevetti Open
DESCRIPTION:Luogo incontro: camping Sun Bay sito in Taranto via Lido Bruno località San Vito \nLeggi i dettagli del punto di immersione
URL:https://www.tarasub.it/immersione/immersione-gommone-per-brevetti-open-17/
CATEGORIES:Gommone
ORGANIZER;CN="Taras Sub Diving Center":MAILTO:info@tarasub.it
END:VEVENT
BEGIN:VEVENT
DTSTART;TZID=Europe/Rome:20240819T093000
DTEND;TZID=Europe/Rome:20240819T123000
DTSTAMP:20260420T091106
CREATED:20240704T153903Z
LAST-MODIFIED:20240704T153903Z
UID:8194-1724059800-1724070600@www.tarasub.it
SUMMARY:Passeggiata Gommone Avvistamento Delfini e Snorkeling
DESCRIPTION:Luogo incontro: Cantiere navale Cantieri Del Sud\, Viale Jonio\, 150\, 74123 Taranto TA \nLeggi i dettagli dell’escursione \n  \nPer informazioni e prenotazioni contattare Luigi allo 3687787407
URL:https://www.tarasub.it/immersione/passeggiata-gommone-avvistamento-delfini-e-snorkeling-149/
LOCATION:Golfo di Taranto
CATEGORIES:Avvistamento delfini
ORGANIZER;CN="Taras Sub Diving Center":MAILTO:info@tarasub.it
END:VEVENT
BEGIN:VEVENT
DTSTART;TZID=Europe/Rome:20240819T090000
DTEND;TZID=Europe/Rome:20240819T110000
DTSTAMP:20260420T091106
CREATED:20240708T140742Z
LAST-MODIFIED:20240708T140742Z
UID:8352-1724058000-1724065200@www.tarasub.it
SUMMARY:Immersione gommone [Profonda] per brevetti Advanced
DESCRIPTION:Luogo incontro: camping Sun Bay sito in Taranto via Lido Bruno località San Vito \nLeggi i dettagli del punto di immersione
URL:https://www.tarasub.it/immersione/immersione-gommone-profonda-per-brevetti-advanced-24/
CATEGORIES:Gommone
ORGANIZER;CN="Taras Sub Diving Center":MAILTO:info@tarasub.it
END:VEVENT
BEGIN:VEVENT
DTSTART;TZID=Europe/Rome:20240818T110000
DTEND;TZID=Europe/Rome:20240818T130000
DTSTAMP:20260420T091106
CREATED:20240708T140019Z
LAST-MODIFIED:20240708T140019Z
UID:8351-1723978800-1723986000@www.tarasub.it
SUMMARY:Immersione gommone per brevetti Open
DESCRIPTION:Luogo incontro: camping Sun Bay sito in Taranto via Lido Bruno località San Vito \nLeggi i dettagli del punto di immersione
URL:https://www.tarasub.it/immersione/immersione-gommone-per-brevetti-open-16/
CATEGORIES:Gommone
ORGANIZER;CN="Taras Sub Diving Center":MAILTO:info@tarasub.it
END:VEVENT
BEGIN:VEVENT
DTSTART;TZID=Europe/Rome:20240818T093000
DTEND;TZID=Europe/Rome:20240818T123000
DTSTAMP:20260420T091106
CREATED:20240704T153831Z
LAST-MODIFIED:20240704T153831Z
UID:8193-1723973400-1723984200@www.tarasub.it
SUMMARY:Passeggiata Gommone Avvistamento Delfini e Snorkeling
DESCRIPTION:Luogo incontro: Cantiere navale Cantieri Del Sud\, Viale Jonio\, 150\, 74123 Taranto TA \nLeggi i dettagli dell’escursione \n  \nPer informazioni e prenotazioni contattare Luigi allo 3687787407
URL:https://www.tarasub.it/immersione/passeggiata-gommone-avvistamento-delfini-e-snorkeling-148/
LOCATION:Golfo di Taranto
CATEGORIES:Avvistamento delfini
ORGANIZER;CN="Taras Sub Diving Center":MAILTO:info@tarasub.it
END:VEVENT
BEGIN:VEVENT
DTSTART;TZID=Europe/Rome:20240818T090000
DTEND;TZID=Europe/Rome:20240818T110000
DTSTAMP:20260420T091106
CREATED:20240708T135952Z
LAST-MODIFIED:20240708T135952Z
UID:8350-1723971600-1723978800@www.tarasub.it
SUMMARY:Immersione gommone [Profonda] per brevetti Advanced
DESCRIPTION:Luogo incontro: camping Sun Bay sito in Taranto via Lido Bruno località San Vito \nLeggi i dettagli del punto di immersione
URL:https://www.tarasub.it/immersione/immersione-gommone-profonda-per-brevetti-advanced-23/
CATEGORIES:Gommone
ORGANIZER;CN="Taras Sub Diving Center":MAILTO:info@tarasub.it
END:VEVENT
BEGIN:VEVENT
DTSTART;TZID=Europe/Rome:20240818T090000
DTEND;TZID=Europe/Rome:20240818T110000
DTSTAMP:20260420T091106
CREATED:20240708T135747Z
LAST-MODIFIED:20240708T135747Z
UID:8348-1723971600-1723978800@www.tarasub.it
SUMMARY:Immersione gommone [Profonda] per brevetti Advanced
DESCRIPTION:Luogo incontro: camping Sun Bay sito in Taranto via Lido Bruno località San Vito \nLeggi i dettagli del punto di immersione
URL:https://www.tarasub.it/immersione/immersione-gommone-profonda-per-brevetti-advanced-22/
CATEGORIES:Gommone
ORGANIZER;CN="Taras Sub Diving Center":MAILTO:info@tarasub.it
END:VEVENT
BEGIN:VEVENT
DTSTART;TZID=Europe/Rome:20240817T110000
DTEND;TZID=Europe/Rome:20240817T130000
DTSTAMP:20260420T091106
CREATED:20240708T135820Z
LAST-MODIFIED:20240708T135820Z
UID:8349-1723892400-1723899600@www.tarasub.it
SUMMARY:Immersione gommone per brevetti Open
DESCRIPTION:Luogo incontro: camping Sun Bay sito in Taranto via Lido Bruno località San Vito \nLeggi i dettagli del punto di immersione
URL:https://www.tarasub.it/immersione/immersione-gommone-per-brevetti-open-15/
ORGANIZER;CN="Taras Sub Diving Center":MAILTO:info@tarasub.it
END:VEVENT
END:VCALENDAR