BEGIN:VCALENDAR
VERSION:2.0
PRODID:-//Taras Sub Diving Center - ECPv6.15.13//NONSGML v1.0//EN
CALSCALE:GREGORIAN
METHOD:PUBLISH
X-ORIGINAL-URL:https://www.tarasub.it
X-WR-CALDESC:Eventi per Taras Sub Diving Center
REFRESH-INTERVAL;VALUE=DURATION:PT1H
X-Robots-Tag:noindex
X-PUBLISHED-TTL:PT1H
BEGIN:VTIMEZONE
TZID:Europe/Rome
BEGIN:DAYLIGHT
TZOFFSETFROM:+0100
TZOFFSETTO:+0200
TZNAME:CEST
DTSTART:20230326T010000
END:DAYLIGHT
BEGIN:STANDARD
TZOFFSETFROM:+0200
TZOFFSETTO:+0100
TZNAME:CET
DTSTART:20231029T010000
END:STANDARD
BEGIN:DAYLIGHT
TZOFFSETFROM:+0100
TZOFFSETTO:+0200
TZNAME:CEST
DTSTART:20240331T010000
END:DAYLIGHT
BEGIN:STANDARD
TZOFFSETFROM:+0200
TZOFFSETTO:+0100
TZNAME:CET
DTSTART:20241027T010000
END:STANDARD
BEGIN:DAYLIGHT
TZOFFSETFROM:+0100
TZOFFSETTO:+0200
TZNAME:CEST
DTSTART:20250330T010000
END:DAYLIGHT
BEGIN:STANDARD
TZOFFSETFROM:+0200
TZOFFSETTO:+0100
TZNAME:CET
DTSTART:20251026T010000
END:STANDARD
END:VTIMEZONE
BEGIN:VEVENT
DTSTART;TZID=Europe/Rome:20240813T110000
DTEND;TZID=Europe/Rome:20240813T130000
DTSTAMP:20260424T154654
CREATED:20240708T134543Z
LAST-MODIFIED:20240708T134543Z
UID:8320-1723546800-1723554000@www.tarasub.it
SUMMARY:Immersione gommone per brevetti Open
DESCRIPTION:Luogo incontro: camping Sun Bay sito in Taranto via Lido Bruno località San Vito \nLeggi i dettagli del punto di immersione
URL:https://www.tarasub.it/immersione/immersione-gommone-per-brevetti-open-11/
CATEGORIES:Gommone
ORGANIZER;CN="Taras Sub Diving Center":MAILTO:info@tarasub.it
END:VEVENT
BEGIN:VEVENT
DTSTART;TZID=Europe/Rome:20240813T093000
DTEND;TZID=Europe/Rome:20240813T123000
DTSTAMP:20260424T154654
CREATED:20240704T153619Z
LAST-MODIFIED:20240704T153619Z
UID:8189-1723541400-1723552200@www.tarasub.it
SUMMARY:Passeggiata Gommone Avvistamento Delfini e Snorkeling
DESCRIPTION:Luogo incontro: Cantiere navale Cantieri Del Sud\, Viale Jonio\, 150\, 74123 Taranto TA \nLeggi i dettagli dell’escursione \n  \nPer informazioni e prenotazioni contattare Luigi allo 3687787407
URL:https://www.tarasub.it/immersione/passeggiata-gommone-avvistamento-delfini-e-snorkeling-144/
LOCATION:Golfo di Taranto
CATEGORIES:Avvistamento delfini
ORGANIZER;CN="Taras Sub Diving Center":MAILTO:info@tarasub.it
END:VEVENT
BEGIN:VEVENT
DTSTART;TZID=Europe/Rome:20240813T090000
DTEND;TZID=Europe/Rome:20240813T110000
DTSTAMP:20260424T154654
CREATED:20240708T134517Z
LAST-MODIFIED:20240708T134517Z
UID:8319-1723539600-1723546800@www.tarasub.it
SUMMARY:Immersione gommone [Profonda] per brevetti Advanced
DESCRIPTION:Luogo incontro: camping Sun Bay sito in Taranto via Lido Bruno località San Vito \nLeggi i dettagli del punto di immersione
URL:https://www.tarasub.it/immersione/immersione-gommone-profonda-per-brevetti-advanced-18/
CATEGORIES:Gommone
ORGANIZER;CN="Taras Sub Diving Center":MAILTO:info@tarasub.it
END:VEVENT
BEGIN:VEVENT
DTSTART;TZID=Europe/Rome:20240812T110000
DTEND;TZID=Europe/Rome:20240812T130000
DTSTAMP:20260424T154654
CREATED:20240708T134416Z
LAST-MODIFIED:20240708T134416Z
UID:8318-1723460400-1723467600@www.tarasub.it
SUMMARY:Immersione gommone per brevetti Open
DESCRIPTION:Luogo incontro: camping Sun Bay sito in Taranto via Lido Bruno località San Vito \nLeggi i dettagli del punto di immersione
URL:https://www.tarasub.it/immersione/immersione-gommone-per-brevetti-open-10/
CATEGORIES:Gommone
ORGANIZER;CN="Taras Sub Diving Center":MAILTO:info@tarasub.it
END:VEVENT
BEGIN:VEVENT
DTSTART;TZID=Europe/Rome:20240812T090000
DTEND;TZID=Europe/Rome:20240812T110000
DTSTAMP:20260424T154654
CREATED:20240708T134401Z
LAST-MODIFIED:20240708T134401Z
UID:8317-1723453200-1723460400@www.tarasub.it
SUMMARY:Immersione gommone [Profonda] per brevetti Advanced
DESCRIPTION:Luogo incontro: camping Sun Bay sito in Taranto via Lido Bruno località San Vito \nLeggi i dettagli del punto di immersione
URL:https://www.tarasub.it/immersione/immersione-gommone-profonda-per-brevetti-advanced-17/
CATEGORIES:Gommone
ORGANIZER;CN="Taras Sub Diving Center":MAILTO:info@tarasub.it
END:VEVENT
BEGIN:VEVENT
DTSTART;TZID=Europe/Rome:20240812T080000
DTEND;TZID=Europe/Rome:20240812T170000
DTSTAMP:20260424T154654
CREATED:20240704T153541Z
LAST-MODIFIED:20240704T153541Z
UID:8188-1723449600-1723482000@www.tarasub.it
SUMMARY:Passeggiata Gommone Avvistamento Delfini e Snorkeling
DESCRIPTION:Luogo incontro: Cantiere navale Cantieri Del Sud\, Viale Jonio\, 150\, 74123 Taranto TA \nLeggi i dettagli dell’escursione \n  \nPer informazioni e prenotazioni contattare Luigi allo 3687787407
URL:https://www.tarasub.it/immersione/passeggiata-gommone-avvistamento-delfini-e-snorkeling-143/
LOCATION:Golfo di Taranto
CATEGORIES:Avvistamento delfini
ORGANIZER;CN="Taras Sub Diving Center":MAILTO:info@tarasub.it
END:VEVENT
BEGIN:VEVENT
DTSTART;TZID=Europe/Rome:20240811T110000
DTEND;TZID=Europe/Rome:20240811T130000
DTSTAMP:20260424T154654
CREATED:20240708T134336Z
LAST-MODIFIED:20240708T134336Z
UID:8316-1723374000-1723381200@www.tarasub.it
SUMMARY:Immersione gommone per brevetti Open
DESCRIPTION:Luogo incontro: camping Sun Bay sito in Taranto via Lido Bruno località San Vito \nLeggi i dettagli del punto di immersione
URL:https://www.tarasub.it/immersione/immersione-gommone-per-brevetti-open-9/
CATEGORIES:Gommone
ORGANIZER;CN="Taras Sub Diving Center":MAILTO:info@tarasub.it
END:VEVENT
BEGIN:VEVENT
DTSTART;TZID=Europe/Rome:20240811T093000
DTEND;TZID=Europe/Rome:20240811T123000
DTSTAMP:20260424T154654
CREATED:20240704T153520Z
LAST-MODIFIED:20240704T153520Z
UID:8187-1723368600-1723379400@www.tarasub.it
SUMMARY:Passeggiata Gommone Avvistamento Delfini e Snorkeling
DESCRIPTION:Luogo incontro: Cantiere navale Cantieri Del Sud\, Viale Jonio\, 150\, 74123 Taranto TA \nLeggi i dettagli dell’escursione \n  \nPer informazioni e prenotazioni contattare Luigi allo 3687787407
URL:https://www.tarasub.it/immersione/passeggiata-gommone-avvistamento-delfini-e-snorkeling-142/
LOCATION:Golfo di Taranto
CATEGORIES:Avvistamento delfini
ORGANIZER;CN="Taras Sub Diving Center":MAILTO:info@tarasub.it
END:VEVENT
BEGIN:VEVENT
DTSTART;TZID=Europe/Rome:20240811T090000
DTEND;TZID=Europe/Rome:20240811T110000
DTSTAMP:20260424T154654
CREATED:20240708T134312Z
LAST-MODIFIED:20240708T134312Z
UID:8314-1723366800-1723374000@www.tarasub.it
SUMMARY:Immersione gommone [Profonda] per brevetti Advanced
DESCRIPTION:Luogo incontro: camping Sun Bay sito in Taranto via Lido Bruno località San Vito \nLeggi i dettagli del punto di immersione
URL:https://www.tarasub.it/immersione/immersione-gommone-profonda-per-brevetti-advanced-16/
CATEGORIES:Gommone
ORGANIZER;CN="Taras Sub Diving Center":MAILTO:info@tarasub.it
END:VEVENT
BEGIN:VEVENT
DTSTART;TZID=Europe/Rome:20240810T110000
DTEND;TZID=Europe/Rome:20240810T130000
DTSTAMP:20260424T154654
CREATED:20240708T134247Z
LAST-MODIFIED:20240708T134247Z
UID:8313-1723287600-1723294800@www.tarasub.it
SUMMARY:Immersione gommone per brevetti Open
DESCRIPTION:Luogo incontro: camping Sun Bay sito in Taranto via Lido Bruno località San Vito \nLeggi i dettagli del punto di immersione
URL:https://www.tarasub.it/immersione/immersione-gommone-per-brevetti-open-8/
CATEGORIES:Gommone
ORGANIZER;CN="Taras Sub Diving Center":MAILTO:info@tarasub.it
END:VEVENT
BEGIN:VEVENT
DTSTART;TZID=Europe/Rome:20240810T090000
DTEND;TZID=Europe/Rome:20240810T110000
DTSTAMP:20260424T154654
CREATED:20240708T134230Z
LAST-MODIFIED:20240708T134230Z
UID:8312-1723280400-1723287600@www.tarasub.it
SUMMARY:Immersione gommone [Profonda] per brevetti Advanced
DESCRIPTION:Luogo incontro: camping Sun Bay sito in Taranto via Lido Bruno località San Vito \nLeggi i dettagli del punto di immersione
URL:https://www.tarasub.it/immersione/immersione-gommone-profonda-per-brevetti-advanced-15/
CATEGORIES:Gommone
ORGANIZER;CN="Taras Sub Diving Center":MAILTO:info@tarasub.it
END:VEVENT
BEGIN:VEVENT
DTSTART;TZID=Europe/Rome:20240810T080000
DTEND;TZID=Europe/Rome:20240810T170000
DTSTAMP:20260424T154654
CREATED:20240704T153452Z
LAST-MODIFIED:20240704T153452Z
UID:8186-1723276800-1723309200@www.tarasub.it
SUMMARY:Passeggiata Gommone Avvistamento Delfini e Snorkeling
DESCRIPTION:Luogo incontro: Cantiere navale Cantieri Del Sud\, Viale Jonio\, 150\, 74123 Taranto TA \nLeggi i dettagli dell’escursione \n  \nPer informazioni e prenotazioni contattare Luigi allo 3687787407
URL:https://www.tarasub.it/immersione/passeggiata-gommone-avvistamento-delfini-e-snorkeling-141/
LOCATION:Golfo di Taranto
CATEGORIES:Avvistamento delfini
ORGANIZER;CN="Taras Sub Diving Center":MAILTO:info@tarasub.it
END:VEVENT
BEGIN:VEVENT
DTSTART;TZID=Europe/Rome:20240809T190000
DTEND;TZID=Europe/Rome:20240809T210000
DTSTAMP:20260424T154654
CREATED:20240708T092309Z
LAST-MODIFIED:20240708T092309Z
UID:8242-1723230000-1723237200@www.tarasub.it
SUMMARY:Immersione gommone (Notturna)
DESCRIPTION:Luogo incontro: camping Sun Bay sito in Taranto via Lido Bruno località San Vito \nLeggi i dettagli del punto di immersione
URL:https://www.tarasub.it/immersione/immersione-gommone-notturna-14/
CATEGORIES:Notturna
ORGANIZER;CN="Taras Sub Diving Center":MAILTO:info@tarasub.it
END:VEVENT
BEGIN:VEVENT
DTSTART;TZID=Europe/Rome:20240809T110000
DTEND;TZID=Europe/Rome:20240809T130000
DTSTAMP:20260424T154654
CREATED:20240708T134210Z
LAST-MODIFIED:20240708T134210Z
UID:8311-1723201200-1723208400@www.tarasub.it
SUMMARY:Immersione gommone per brevetti Open
DESCRIPTION:Luogo incontro: camping Sun Bay sito in Taranto via Lido Bruno località San Vito \nLeggi i dettagli del punto di immersione
URL:https://www.tarasub.it/immersione/immersione-gommone-per-brevetti-open-7/
CATEGORIES:Gommone
ORGANIZER;CN="Taras Sub Diving Center":MAILTO:info@tarasub.it
END:VEVENT
BEGIN:VEVENT
DTSTART;TZID=Europe/Rome:20240809T093000
DTEND;TZID=Europe/Rome:20240809T123000
DTSTAMP:20260424T154654
CREATED:20240704T153057Z
LAST-MODIFIED:20240704T153057Z
UID:8176-1723195800-1723206600@www.tarasub.it
SUMMARY:Passeggiata Gommone Avvistamento Delfini e Snorkeling
DESCRIPTION:Luogo incontro: Cantiere navale Cantieri Del Sud\, Viale Jonio\, 150\, 74123 Taranto TA \nLeggi i dettagli dell’escursione \n  \nPer informazioni e prenotazioni contattare Luigi allo 3687787407
URL:https://www.tarasub.it/immersione/passeggiata-gommone-avvistamento-delfini-e-snorkeling-140/
LOCATION:Golfo di Taranto
CATEGORIES:Avvistamento delfini
ORGANIZER;CN="Taras Sub Diving Center":MAILTO:info@tarasub.it
END:VEVENT
BEGIN:VEVENT
DTSTART;TZID=Europe/Rome:20240809T090000
DTEND;TZID=Europe/Rome:20240809T110000
DTSTAMP:20260424T154654
CREATED:20240708T134134Z
LAST-MODIFIED:20240708T134134Z
UID:8310-1723194000-1723201200@www.tarasub.it
SUMMARY:Immersione gommone [Profonda] per brevetti Advanced
DESCRIPTION:Luogo incontro: camping Sun Bay sito in Taranto via Lido Bruno località San Vito \nLeggi i dettagli del punto di immersione
URL:https://www.tarasub.it/immersione/immersione-gommone-profonda-per-brevetti-advanced-14/
CATEGORIES:Gommone
ORGANIZER;CN="Taras Sub Diving Center":MAILTO:info@tarasub.it
END:VEVENT
BEGIN:VEVENT
DTSTART;TZID=Europe/Rome:20240808T110000
DTEND;TZID=Europe/Rome:20240808T130000
DTSTAMP:20260424T154654
CREATED:20240708T134103Z
LAST-MODIFIED:20240708T134103Z
UID:8309-1723114800-1723122000@www.tarasub.it
SUMMARY:Immersione gommone per brevetti Open
DESCRIPTION:Luogo incontro: camping Sun Bay sito in Taranto via Lido Bruno località San Vito \nLeggi i dettagli del punto di immersione
URL:https://www.tarasub.it/immersione/immersione-gommone-per-brevetti-open-6/
CATEGORIES:Gommone
ORGANIZER;CN="Taras Sub Diving Center":MAILTO:info@tarasub.it
END:VEVENT
BEGIN:VEVENT
DTSTART;TZID=Europe/Rome:20240808T093000
DTEND;TZID=Europe/Rome:20240808T123000
DTSTAMP:20260424T154654
CREATED:20240704T152934Z
LAST-MODIFIED:20240704T152934Z
UID:8175-1723109400-1723120200@www.tarasub.it
SUMMARY:Passeggiata Gommone Avvistamento Delfini e Snorkeling
DESCRIPTION:Luogo incontro: Cantiere navale Cantieri Del Sud\, Viale Jonio\, 150\, 74123 Taranto TA \nLeggi i dettagli dell’escursione \n  \nPer informazioni e prenotazioni contattare Luigi allo 3687787407
URL:https://www.tarasub.it/immersione/passeggiata-gommone-avvistamento-delfini-e-snorkeling-138/
LOCATION:Golfo di Taranto
CATEGORIES:Avvistamento delfini
ORGANIZER;CN="Taras Sub Diving Center":MAILTO:info@tarasub.it
END:VEVENT
BEGIN:VEVENT
DTSTART;TZID=Europe/Rome:20240808T090000
DTEND;TZID=Europe/Rome:20240808T110000
DTSTAMP:20260424T154654
CREATED:20240708T134052Z
LAST-MODIFIED:20240708T134052Z
UID:8308-1723107600-1723114800@www.tarasub.it
SUMMARY:Immersione gommone [Profonda] per brevetti Advanced
DESCRIPTION:Luogo incontro: camping Sun Bay sito in Taranto via Lido Bruno località San Vito \nLeggi i dettagli del punto di immersione
URL:https://www.tarasub.it/immersione/immersione-gommone-profonda-per-brevetti-advanced-13/
CATEGORIES:Gommone
END:VEVENT
BEGIN:VEVENT
DTSTART;TZID=Europe/Rome:20240807T110000
DTEND;TZID=Europe/Rome:20240807T130000
DTSTAMP:20260424T154654
CREATED:20240708T133410Z
LAST-MODIFIED:20240708T133410Z
UID:8295-1723028400-1723035600@www.tarasub.it
SUMMARY:Immersione gommone per brevetti Open
DESCRIPTION:Luogo incontro: camping Sun Bay sito in Taranto via Lido Bruno località San Vito \nLeggi i dettagli del punto di immersione
URL:https://www.tarasub.it/immersione/immersione-gommone-per-brevetti-open-5/
CATEGORIES:Gommone
ORGANIZER;CN="Taras Sub Diving Center":MAILTO:info@tarasub.it
END:VEVENT
BEGIN:VEVENT
DTSTART;TZID=Europe/Rome:20240807T093000
DTEND;TZID=Europe/Rome:20240807T123000
DTSTAMP:20260424T154654
CREATED:20240704T153035Z
LAST-MODIFIED:20240704T153035Z
UID:8174-1723023000-1723033800@www.tarasub.it
SUMMARY:Passeggiata Gommone Avvistamento Delfini e Snorkeling
DESCRIPTION:Luogo incontro: Cantiere navale Cantieri Del Sud\, Viale Jonio\, 150\, 74123 Taranto TA \nLeggi i dettagli dell’escursione \n  \nPer informazioni e prenotazioni contattare Luigi allo 3687787407
URL:https://www.tarasub.it/immersione/passeggiata-gommone-avvistamento-delfini-e-snorkeling-139/
LOCATION:Golfo di Taranto
CATEGORIES:Avvistamento delfini
ORGANIZER;CN="Taras Sub Diving Center":MAILTO:info@tarasub.it
END:VEVENT
BEGIN:VEVENT
DTSTART;TZID=Europe/Rome:20240807T090000
DTEND;TZID=Europe/Rome:20240807T110000
DTSTAMP:20260424T154654
CREATED:20240708T133347Z
LAST-MODIFIED:20240708T133347Z
UID:8294-1723021200-1723028400@www.tarasub.it
SUMMARY:Immersione gommone [Profonda] per brevetti Advanced
DESCRIPTION:Luogo incontro: camping Sun Bay sito in Taranto via Lido Bruno località San Vito \nLeggi i dettagli del punto di immersione
URL:https://www.tarasub.it/immersione/immersione-gommone-profonda-per-brevetti-advanced-12/
CATEGORIES:Gommone
ORGANIZER;CN="Taras Sub Diving Center":MAILTO:info@tarasub.it
END:VEVENT
BEGIN:VEVENT
DTSTART;TZID=Europe/Rome:20240806T110000
DTEND;TZID=Europe/Rome:20240806T130000
DTSTAMP:20260424T154654
CREATED:20240708T133325Z
LAST-MODIFIED:20240708T133325Z
UID:8293-1722942000-1722949200@www.tarasub.it
SUMMARY:Immersione gommone per brevetti Open
DESCRIPTION:Luogo incontro: camping Sun Bay sito in Taranto via Lido Bruno località San Vito \nLeggi i dettagli del punto di immersione
URL:https://www.tarasub.it/immersione/immersione-gommone-per-brevetti-open-4/
CATEGORIES:Gommone
ORGANIZER;CN="Taras Sub Diving Center":MAILTO:info@tarasub.it
END:VEVENT
BEGIN:VEVENT
DTSTART;TZID=Europe/Rome:20240806T093000
DTEND;TZID=Europe/Rome:20240806T123000
DTSTAMP:20260424T154654
CREATED:20240704T152835Z
LAST-MODIFIED:20240704T152835Z
UID:8173-1722936600-1722947400@www.tarasub.it
SUMMARY:Passeggiata Gommone Avvistamento Delfini e Snorkeling
DESCRIPTION:Luogo incontro: Cantiere navale Cantieri Del Sud\, Viale Jonio\, 150\, 74123 Taranto TA \nLeggi i dettagli dell’escursione \n  \nPer informazioni e prenotazioni contattare Luigi allo 3687787407
URL:https://www.tarasub.it/immersione/passeggiata-gommone-avvistamento-delfini-e-snorkeling-137/
LOCATION:Golfo di Taranto
CATEGORIES:Avvistamento delfini
ORGANIZER;CN="Taras Sub Diving Center":MAILTO:info@tarasub.it
END:VEVENT
BEGIN:VEVENT
DTSTART;TZID=Europe/Rome:20240806T090000
DTEND;TZID=Europe/Rome:20240806T110000
DTSTAMP:20260424T154654
CREATED:20240708T133250Z
LAST-MODIFIED:20240708T133250Z
UID:8292-1722934800-1722942000@www.tarasub.it
SUMMARY:Immersione gommone [Profonda] per brevetti Advanced
DESCRIPTION:Luogo incontro: camping Sun Bay sito in Taranto via Lido Bruno località San Vito \nLeggi i dettagli del punto di immersione
URL:https://www.tarasub.it/immersione/immersione-gommone-profonda-per-brevetti-advanced-11/
CATEGORIES:Gommone
ORGANIZER;CN="Taras Sub Diving Center":MAILTO:info@tarasub.it
END:VEVENT
BEGIN:VEVENT
DTSTART;TZID=Europe/Rome:20240805T110000
DTEND;TZID=Europe/Rome:20240805T130000
DTSTAMP:20260424T154654
CREATED:20240708T133227Z
LAST-MODIFIED:20240708T133227Z
UID:8291-1722855600-1722862800@www.tarasub.it
SUMMARY:Immersione gommone per brevetti Open
DESCRIPTION:Luogo incontro: camping Sun Bay sito in Taranto via Lido Bruno località San Vito \nLeggi i dettagli del punto di immersione
URL:https://www.tarasub.it/immersione/immersione-gommone-per-brevetti-open-3/
CATEGORIES:Gommone
ORGANIZER;CN="Taras Sub Diving Center":MAILTO:info@tarasub.it
END:VEVENT
BEGIN:VEVENT
DTSTART;TZID=Europe/Rome:20240805T093000
DTEND;TZID=Europe/Rome:20240805T123000
DTSTAMP:20260424T154654
CREATED:20240704T152803Z
LAST-MODIFIED:20240704T152803Z
UID:8172-1722850200-1722861000@www.tarasub.it
SUMMARY:Passeggiata Gommone Avvistamento Delfini e Snorkeling
DESCRIPTION:Luogo incontro: Cantiere navale Cantieri Del Sud\, Viale Jonio\, 150\, 74123 Taranto TA \nLeggi i dettagli dell’escursione \n  \nPer informazioni e prenotazioni contattare Luigi allo 3687787407
URL:https://www.tarasub.it/immersione/passeggiata-gommone-avvistamento-delfini-e-snorkeling-136/
LOCATION:Golfo di Taranto
CATEGORIES:Avvistamento delfini
ORGANIZER;CN="Taras Sub Diving Center":MAILTO:info@tarasub.it
END:VEVENT
BEGIN:VEVENT
DTSTART;TZID=Europe/Rome:20240805T090000
DTEND;TZID=Europe/Rome:20240805T110000
DTSTAMP:20260424T154654
CREATED:20240708T133203Z
LAST-MODIFIED:20240708T133203Z
UID:8290-1722848400-1722855600@www.tarasub.it
SUMMARY:Immersione gommone [Profonda] per brevetti Advanced
DESCRIPTION:Luogo incontro: camping Sun Bay sito in Taranto via Lido Bruno località San Vito \nLeggi i dettagli del punto di immersione
URL:https://www.tarasub.it/immersione/immersione-gommone-profonda-per-brevetti-advanced-10/
CATEGORIES:Gommone
ORGANIZER;CN="Taras Sub Diving Center":MAILTO:info@tarasub.it
END:VEVENT
BEGIN:VEVENT
DTSTART;TZID=Europe/Rome:20240804T110000
DTEND;TZID=Europe/Rome:20240804T130000
DTSTAMP:20260424T154654
CREATED:20240708T145734Z
LAST-MODIFIED:20240708T145734Z
UID:8441-1722769200-1722776400@www.tarasub.it
SUMMARY:Immersione gommone per brevetti Open
DESCRIPTION:Luogo incontro: camping Sun Bay sito in Taranto via Lido Bruno località San Vito \nLeggi i dettagli del punto di immersione
URL:https://www.tarasub.it/immersione/immersione-gommone-per-brevetti-open-32/
CATEGORIES:Gommone
ORGANIZER;CN="Taras Sub Diving Center":MAILTO:info@tarasub.it
END:VEVENT
BEGIN:VEVENT
DTSTART;TZID=Europe/Rome:20240804T110000
DTEND;TZID=Europe/Rome:20240804T130000
DTSTAMP:20260424T154655
CREATED:20240708T132443Z
LAST-MODIFIED:20240708T132933Z
UID:8277-1722769200-1722776400@www.tarasub.it
SUMMARY:Immersione gommone per brevetti Open
DESCRIPTION:Luogo incontro: camping Sun Bay sito in Taranto via Lido Bruno località San Vito \nLeggi i dettagli del punto di immersione
URL:https://www.tarasub.it/immersione/immersione-gommone-profonda-per-brevetti-open-7/
CATEGORIES:Gommone
ORGANIZER;CN="Taras Sub Diving Center":MAILTO:info@tarasub.it
END:VEVENT
END:VCALENDAR