BEGIN:VCALENDAR
VERSION:2.0
PRODID:-//Taras Sub Diving Center - ECPv6.15.13//NONSGML v1.0//EN
CALSCALE:GREGORIAN
METHOD:PUBLISH
X-ORIGINAL-URL:https://www.tarasub.it
X-WR-CALDESC:Eventi per Taras Sub Diving Center
REFRESH-INTERVAL;VALUE=DURATION:PT1H
X-Robots-Tag:noindex
X-PUBLISHED-TTL:PT1H
BEGIN:VTIMEZONE
TZID:Europe/Rome
BEGIN:DAYLIGHT
TZOFFSETFROM:+0100
TZOFFSETTO:+0200
TZNAME:CEST
DTSTART:20240331T010000
END:DAYLIGHT
BEGIN:STANDARD
TZOFFSETFROM:+0200
TZOFFSETTO:+0100
TZNAME:CET
DTSTART:20241027T010000
END:STANDARD
BEGIN:DAYLIGHT
TZOFFSETFROM:+0100
TZOFFSETTO:+0200
TZNAME:CEST
DTSTART:20250330T010000
END:DAYLIGHT
BEGIN:STANDARD
TZOFFSETFROM:+0200
TZOFFSETTO:+0100
TZNAME:CET
DTSTART:20251026T010000
END:STANDARD
BEGIN:DAYLIGHT
TZOFFSETFROM:+0100
TZOFFSETTO:+0200
TZNAME:CEST
DTSTART:20260329T010000
END:DAYLIGHT
BEGIN:STANDARD
TZOFFSETFROM:+0200
TZOFFSETTO:+0100
TZNAME:CET
DTSTART:20261025T010000
END:STANDARD
END:VTIMEZONE
BEGIN:VEVENT
DTSTART;TZID=Europe/Rome:20250807T093000
DTEND;TZID=Europe/Rome:20250807T123000
DTSTAMP:20260419T154558
CREATED:20250510T211422Z
LAST-MODIFIED:20250510T211422Z
UID:8642-1754559000-1754569800@www.tarasub.it
SUMMARY:Passeggiata Gommone Avvistamento Delfini e Snorkeling
DESCRIPTION:Luogo incontro: Cantiere navale Cantieri Del Sud\, Viale Jonio\, 150\, 74123 Taranto TA \nLeggi i dettagli dell’escursione \n  \nPer informazioni e prenotazioni contattare Luigi allo 3687787407
URL:https://www.tarasub.it/immersione/passeggiata-gommone-avvistamento-delfini-e-snorkeling-180/
LOCATION:Golfo di Taranto
CATEGORIES:Avvistamento delfini
ORGANIZER;CN="Taras Sub Diving Center":MAILTO:info@tarasub.it
END:VEVENT
BEGIN:VEVENT
DTSTART;TZID=Europe/Rome:20250806T093000
DTEND;TZID=Europe/Rome:20250806T123000
DTSTAMP:20260419T154558
CREATED:20250510T211216Z
LAST-MODIFIED:20250510T211216Z
UID:8641-1754472600-1754483400@www.tarasub.it
SUMMARY:Passeggiata Gommone Avvistamento Delfini e Snorkeling
DESCRIPTION:Luogo incontro: Cantiere navale Cantieri Del Sud\, Viale Jonio\, 150\, 74123 Taranto TA \nLeggi i dettagli dell’escursione \n  \nPer informazioni e prenotazioni contattare Luigi allo 3687787407
URL:https://www.tarasub.it/immersione/passeggiata-gommone-avvistamento-delfini-e-snorkeling-179/
LOCATION:Golfo di Taranto
CATEGORIES:Avvistamento delfini
ORGANIZER;CN="Taras Sub Diving Center":MAILTO:info@tarasub.it
END:VEVENT
BEGIN:VEVENT
DTSTART;TZID=Europe/Rome:20250805T093000
DTEND;TZID=Europe/Rome:20250805T123000
DTSTAMP:20260419T154558
CREATED:20250510T211101Z
LAST-MODIFIED:20250510T211101Z
UID:8640-1754386200-1754397000@www.tarasub.it
SUMMARY:Passeggiata Gommone Avvistamento Delfini e Snorkeling
DESCRIPTION:Luogo incontro: Cantiere navale Cantieri Del Sud\, Viale Jonio\, 150\, 74123 Taranto TA \nLeggi i dettagli dell’escursione \n  \nPer informazioni e prenotazioni contattare Luigi allo 3687787407
URL:https://www.tarasub.it/immersione/passeggiata-gommone-avvistamento-delfini-e-snorkeling-178/
LOCATION:Golfo di Taranto
CATEGORIES:Avvistamento delfini
ORGANIZER;CN="Taras Sub Diving Center":MAILTO:info@tarasub.it
END:VEVENT
BEGIN:VEVENT
DTSTART;TZID=Europe/Rome:20250804T093000
DTEND;TZID=Europe/Rome:20250804T123000
DTSTAMP:20260419T154558
CREATED:20250510T210947Z
LAST-MODIFIED:20250510T210947Z
UID:8639-1754299800-1754310600@www.tarasub.it
SUMMARY:Passeggiata Gommone Avvistamento Delfini e Snorkeling
DESCRIPTION:Luogo incontro: Cantiere navale Cantieri Del Sud\, Viale Jonio\, 150\, 74123 Taranto TA \nLeggi i dettagli dell’escursione \n  \nPer informazioni e prenotazioni contattare Luigi allo 3687787407
URL:https://www.tarasub.it/immersione/passeggiata-gommone-avvistamento-delfini-e-snorkeling-177/
LOCATION:Golfo di Taranto
CATEGORIES:Avvistamento delfini
ORGANIZER;CN="Taras Sub Diving Center":MAILTO:info@tarasub.it
END:VEVENT
BEGIN:VEVENT
DTSTART;TZID=Europe/Rome:20250803T110000
DTEND;TZID=Europe/Rome:20250803T130000
DTSTAMP:20260419T154558
CREATED:20250506T223157Z
LAST-MODIFIED:20250506T223313Z
UID:8608-1754218800-1754226000@www.tarasub.it
SUMMARY:Immersione gommone per brevetti Open
DESCRIPTION:Luogo incontro: camping Sun Bay sito in Taranto via Lido Bruno località San Vito \nLeggi i dettagli del punto di immersione
URL:https://www.tarasub.it/immersione/immersione-gommone-per-brevetti-open-61/
LOCATION:taranto
CATEGORIES:Gommone
ORGANIZER;CN="Taras Sub Diving Center":MAILTO:info@tarasub.it
END:VEVENT
BEGIN:VEVENT
DTSTART;TZID=Europe/Rome:20250803T093000
DTEND;TZID=Europe/Rome:20250803T123000
DTSTAMP:20260419T154558
CREATED:20250510T210823Z
LAST-MODIFIED:20250510T210823Z
UID:8638-1754213400-1754224200@www.tarasub.it
SUMMARY:Passeggiata Gommone Avvistamento Delfini e Snorkeling
DESCRIPTION:Luogo incontro: Cantiere navale Cantieri Del Sud\, Viale Jonio\, 150\, 74123 Taranto TA \nLeggi i dettagli dell’escursione \n  \nPer informazioni e prenotazioni contattare Luigi allo 3687787407
URL:https://www.tarasub.it/immersione/passeggiata-gommone-avvistamento-delfini-e-snorkeling-176/
LOCATION:Golfo di Taranto
CATEGORIES:Avvistamento delfini
ORGANIZER;CN="Taras Sub Diving Center":MAILTO:info@tarasub.it
END:VEVENT
BEGIN:VEVENT
DTSTART;TZID=Europe/Rome:20250803T090000
DTEND;TZID=Europe/Rome:20250803T110000
DTSTAMP:20260419T154558
CREATED:20250506T223353Z
LAST-MODIFIED:20250506T223353Z
UID:8609-1754211600-1754218800@www.tarasub.it
SUMMARY:Immersione gommone [Profonda] per brevetti Advanced
DESCRIPTION:Luogo incontro: camping Sun Bay sito in Taranto via Lido Bruno località San Vito \nLeggi i dettagli del punto di immersione
URL:https://www.tarasub.it/immersione/immersione-gommone-profonda-per-brevetti-advanced-42/
LOCATION:taranto
CATEGORIES:Gommone
ORGANIZER;CN="Taras Sub Diving Center":MAILTO:info@tarasub.it
END:VEVENT
BEGIN:VEVENT
DTSTART;TZID=Europe/Rome:20250802T110000
DTEND;TZID=Europe/Rome:20250802T130000
DTSTAMP:20260419T154558
CREATED:20250506T222754Z
LAST-MODIFIED:20250506T222754Z
UID:8605-1754132400-1754139600@www.tarasub.it
SUMMARY:Immersione gommone per brevetti Open
DESCRIPTION:Luogo incontro: camping Sun Bay sito in Taranto via Lido Bruno località San Vito \nLeggi i dettagli del punto di immersione
URL:https://www.tarasub.it/immersione/immersione-gommone-per-brevetti-open-60/
LOCATION:taranto
CATEGORIES:Gommone
ORGANIZER;CN="Taras Sub Diving Center":MAILTO:info@tarasub.it
END:VEVENT
BEGIN:VEVENT
DTSTART;TZID=Europe/Rome:20250802T093000
DTEND;TZID=Europe/Rome:20250802T123000
DTSTAMP:20260419T154558
CREATED:20250510T210717Z
LAST-MODIFIED:20250510T210717Z
UID:8637-1754127000-1754137800@www.tarasub.it
SUMMARY:Passeggiata Gommone Avvistamento Delfini e Snorkeling
DESCRIPTION:Luogo incontro: Cantiere navale Cantieri Del Sud\, Viale Jonio\, 150\, 74123 Taranto TA \nLeggi i dettagli dell’escursione \n  \nPer informazioni e prenotazioni contattare Luigi allo 3687787407
URL:https://www.tarasub.it/immersione/passeggiata-gommone-avvistamento-delfini-e-snorkeling-175/
CATEGORIES:Avvistamento delfini
ORGANIZER;CN="Taras Sub Diving Center":MAILTO:info@tarasub.it
END:VEVENT
BEGIN:VEVENT
DTSTART;TZID=Europe/Rome:20250802T090000
DTEND;TZID=Europe/Rome:20250802T110000
DTSTAMP:20260419T154558
CREATED:20250506T222848Z
LAST-MODIFIED:20250711T204623Z
UID:8606-1754125200-1754132400@www.tarasub.it
SUMMARY:Immersione gommone [Profonda] per brevetti Advanced
DESCRIPTION:Luogo incontro: Interno Porto Turistico Box 1 Pontile D\,  Campomarino di Maruggio\, 74020 Taranto (TA) \nLeggi i dettagli del punto di immersione
URL:https://www.tarasub.it/immersione/immersione-gommone-profonda-per-brevetti-advanced-40/
CATEGORIES:Gommone
END:VEVENT
BEGIN:VEVENT
DTSTART;TZID=Europe/Rome:20250801T093000
DTEND;TZID=Europe/Rome:20250801T123000
DTSTAMP:20260419T154558
CREATED:20250510T210549Z
LAST-MODIFIED:20250510T210549Z
UID:8636-1754040600-1754051400@www.tarasub.it
SUMMARY:Passeggiata Gommone Avvistamento Delfini e Snorkeling
DESCRIPTION:Luogo incontro: Cantiere navale Cantieri Del Sud\, Viale Jonio\, 150\, 74123 Taranto TA \nLeggi i dettagli dell’escursione \n  \nPer informazioni e prenotazioni contattare Luigi allo 3687787407
URL:https://www.tarasub.it/immersione/passeggiata-gommone-avvistamento-delfini-e-snorkeling-174/
LOCATION:Golfo di Taranto
CATEGORIES:Avvistamento delfini
ORGANIZER;CN="Taras Sub Diving Center":MAILTO:info@tarasub.it
END:VEVENT
BEGIN:VEVENT
DTSTART;TZID=Europe/Rome:20250731T093000
DTEND;TZID=Europe/Rome:20250731T123000
DTSTAMP:20260419T154558
CREATED:20250510T204342Z
LAST-MODIFIED:20250510T204342Z
UID:8633-1753954200-1753965000@www.tarasub.it
SUMMARY:Passeggiata Gommone Avvistamento Delfini e Snorkeling
DESCRIPTION:Luogo incontro: Cantiere navale Cantieri Del Sud\, Viale Jonio\, 150\, 74123 Taranto TA \nLeggi i dettagli dell’escursione \n  \nPer informazioni e prenotazioni contattare Luigi allo 3687787407
URL:https://www.tarasub.it/immersione/passeggiata-gommone-avvistamento-delfini-e-snorkeling-173/
LOCATION:Golfo di Taranto
CATEGORIES:Avvistamento delfini
ORGANIZER;CN="Taras Sub Diving Center":MAILTO:info@tarasub.it
END:VEVENT
BEGIN:VEVENT
DTSTART;TZID=Europe/Rome:20250730T093000
DTEND;TZID=Europe/Rome:20250730T123000
DTSTAMP:20260419T154558
CREATED:20250629T223530Z
LAST-MODIFIED:20250629T223530Z
UID:8957-1753867800-1753878600@www.tarasub.it
SUMMARY:Passeggiata Gommone Avvistamento Delfini e Snorkeling
DESCRIPTION:Luogo incontro: Cantiere navale Cantieri Del Sud\, Viale Jonio\, 150\, 74123 Taranto TA \nLeggi i dettagli dell’escursione \n  \nPer informazioni e prenotazioni contattare Luigi allo 3687787407
URL:https://www.tarasub.it/immersione/passeggiata-gommone-avvistamento-delfini-e-snorkeling-237/
LOCATION:Golfo di Taranto
CATEGORIES:Avvistamento delfini
ORGANIZER;CN="Taras Sub Diving Center":MAILTO:info@tarasub.it
END:VEVENT
BEGIN:VEVENT
DTSTART;TZID=Europe/Rome:20250729T093000
DTEND;TZID=Europe/Rome:20250729T123000
DTSTAMP:20260419T154558
CREATED:20250629T223505Z
LAST-MODIFIED:20250629T223505Z
UID:8956-1753781400-1753792200@www.tarasub.it
SUMMARY:Passeggiata Gommone Avvistamento Delfini e Snorkeling
DESCRIPTION:Luogo incontro: Cantiere navale Cantieri Del Sud\, Viale Jonio\, 150\, 74123 Taranto TA \nLeggi i dettagli dell’escursione \n  \nPer informazioni e prenotazioni contattare Luigi allo 3687787407
URL:https://www.tarasub.it/immersione/passeggiata-gommone-avvistamento-delfini-e-snorkeling-236/
LOCATION:Golfo di Taranto
CATEGORIES:Avvistamento delfini
ORGANIZER;CN="Taras Sub Diving Center":MAILTO:info@tarasub.it
END:VEVENT
BEGIN:VEVENT
DTSTART;TZID=Europe/Rome:20250728T093000
DTEND;TZID=Europe/Rome:20250728T123000
DTSTAMP:20260419T154558
CREATED:20250629T223429Z
LAST-MODIFIED:20250629T223429Z
UID:8955-1753695000-1753705800@www.tarasub.it
SUMMARY:Passeggiata Gommone Avvistamento Delfini e Snorkeling
DESCRIPTION:Luogo incontro: Cantiere navale Cantieri Del Sud\, Viale Jonio\, 150\, 74123 Taranto TA \nLeggi i dettagli dell’escursione \n  \nPer informazioni e prenotazioni contattare Luigi allo 3687787407
URL:https://www.tarasub.it/immersione/passeggiata-gommone-avvistamento-delfini-e-snorkeling-235/
LOCATION:Golfo di Taranto
CATEGORIES:Avvistamento delfini
ORGANIZER;CN="Taras Sub Diving Center":MAILTO:info@tarasub.it
END:VEVENT
BEGIN:VEVENT
DTSTART;TZID=Europe/Rome:20250727T093000
DTEND;TZID=Europe/Rome:20250727T123000
DTSTAMP:20260419T154558
CREATED:20250629T223412Z
LAST-MODIFIED:20250629T223412Z
UID:8954-1753608600-1753619400@www.tarasub.it
SUMMARY:Passeggiata Gommone Avvistamento Delfini e Snorkeling
DESCRIPTION:Luogo incontro: Cantiere navale Cantieri Del Sud\, Viale Jonio\, 150\, 74123 Taranto TA \nLeggi i dettagli dell’escursione \n  \nPer informazioni e prenotazioni contattare Luigi allo 3687787407
URL:https://www.tarasub.it/immersione/passeggiata-gommone-avvistamento-delfini-e-snorkeling-234/
LOCATION:Golfo di Taranto
CATEGORIES:Avvistamento delfini
ORGANIZER;CN="Taras Sub Diving Center":MAILTO:info@tarasub.it
END:VEVENT
BEGIN:VEVENT
DTSTART;TZID=Europe/Rome:20250727T090000
DTEND;TZID=Europe/Rome:20250727T110000
DTSTAMP:20260419T154558
CREATED:20250506T222540Z
LAST-MODIFIED:20250711T204709Z
UID:8604-1753606800-1753614000@www.tarasub.it
SUMMARY:Immersione gommone per brevetti Open
DESCRIPTION:Luogo incontro: Interno Porto Turistico Box 1 Pontile D\,  Campomarino di Maruggio\, 74020 Taranto (TA) \nLeggi i dettagli del punto di immersione \n 
URL:https://www.tarasub.it/immersione/immersione-gommone-per-brevetti-open-59/
LOCATION:taranto
CATEGORIES:Gommone
ORGANIZER;CN="Taras Sub Diving Center":MAILTO:info@tarasub.it
END:VEVENT
BEGIN:VEVENT
DTSTART;TZID=Europe/Rome:20250726T093000
DTEND;TZID=Europe/Rome:20250726T123000
DTSTAMP:20260419T154558
CREATED:20250629T223320Z
LAST-MODIFIED:20250629T223320Z
UID:8953-1753522200-1753533000@www.tarasub.it
SUMMARY:Passeggiata Gommone Avvistamento Delfini e Snorkeling
DESCRIPTION:Luogo incontro: Cantiere navale Cantieri Del Sud\, Viale Jonio\, 150\, 74123 Taranto TA \nLeggi i dettagli dell’escursione \n  \nPer informazioni e prenotazioni contattare Luigi allo 3687787407
URL:https://www.tarasub.it/immersione/passeggiata-gommone-avvistamento-delfini-e-snorkeling-233/
LOCATION:Golfo di Taranto
CATEGORIES:Avvistamento delfini
ORGANIZER;CN="Taras Sub Diving Center":MAILTO:info@tarasub.it
END:VEVENT
BEGIN:VEVENT
DTSTART;TZID=Europe/Rome:20250726T090000
DTEND;TZID=Europe/Rome:20250726T110000
DTSTAMP:20260419T154558
CREATED:20250506T222420Z
LAST-MODIFIED:20250711T204847Z
UID:8603-1753520400-1753527600@www.tarasub.it
SUMMARY:Immersione gommone per brevetti Open
DESCRIPTION:Luogo incontro: Interno Porto Turistico Box 1 Pontile D\,  Campomarino di Maruggio\, 74020 Taranto (TA) \nLeggi i dettagli del punto di immersione \n 
URL:https://www.tarasub.it/immersione/immersione-gommone-per-brevetti-open-58/
LOCATION:taranto
CATEGORIES:Gommone
ORGANIZER;CN="Taras Sub Diving Center":MAILTO:info@tarasub.it
END:VEVENT
BEGIN:VEVENT
DTSTART;TZID=Europe/Rome:20250725T093000
DTEND;TZID=Europe/Rome:20250725T123000
DTSTAMP:20260419T154558
CREATED:20250629T223314Z
LAST-MODIFIED:20250629T223314Z
UID:8952-1753435800-1753446600@www.tarasub.it
SUMMARY:Passeggiata Gommone Avvistamento Delfini e Snorkeling
DESCRIPTION:Luogo incontro: Cantiere navale Cantieri Del Sud\, Viale Jonio\, 150\, 74123 Taranto TA \nLeggi i dettagli dell’escursione \n  \nPer informazioni e prenotazioni contattare Luigi allo 3687787407
URL:https://www.tarasub.it/immersione/passeggiata-gommone-avvistamento-delfini-e-snorkeling-232/
LOCATION:Golfo di Taranto
CATEGORIES:Avvistamento delfini
ORGANIZER;CN="Taras Sub Diving Center":MAILTO:info@tarasub.it
END:VEVENT
BEGIN:VEVENT
DTSTART;TZID=Europe/Rome:20250724T093000
DTEND;TZID=Europe/Rome:20250724T123000
DTSTAMP:20260419T154558
CREATED:20250629T222957Z
LAST-MODIFIED:20250629T222957Z
UID:8941-1753349400-1753360200@www.tarasub.it
SUMMARY:Passeggiata Gommone Avvistamento Delfini e Snorkeling
DESCRIPTION:Luogo incontro: Cantiere navale Cantieri Del Sud\, Viale Jonio\, 150\, 74123 Taranto TA \nLeggi i dettagli dell’escursione \n  \nPer informazioni e prenotazioni contattare Luigi allo 3687787407
URL:https://www.tarasub.it/immersione/passeggiata-gommone-avvistamento-delfini-e-snorkeling-231/
LOCATION:Golfo di Taranto
CATEGORIES:Avvistamento delfini
ORGANIZER;CN="Taras Sub Diving Center":MAILTO:info@tarasub.it
END:VEVENT
BEGIN:VEVENT
DTSTART;TZID=Europe/Rome:20250723T093000
DTEND;TZID=Europe/Rome:20250723T123000
DTSTAMP:20260419T154558
CREATED:20250629T222922Z
LAST-MODIFIED:20250629T222922Z
UID:8940-1753263000-1753273800@www.tarasub.it
SUMMARY:Passeggiata Gommone Avvistamento Delfini e Snorkeling
DESCRIPTION:Luogo incontro: Cantiere navale Cantieri Del Sud\, Viale Jonio\, 150\, 74123 Taranto TA \nLeggi i dettagli dell’escursione \n  \nPer informazioni e prenotazioni contattare Luigi allo 3687787407
URL:https://www.tarasub.it/immersione/passeggiata-gommone-avvistamento-delfini-e-snorkeling-230/
LOCATION:Golfo di Taranto
CATEGORIES:Avvistamento delfini
ORGANIZER;CN="Taras Sub Diving Center":MAILTO:info@tarasub.it
END:VEVENT
BEGIN:VEVENT
DTSTART;TZID=Europe/Rome:20250722T093000
DTEND;TZID=Europe/Rome:20250722T123000
DTSTAMP:20260419T154558
CREATED:20250629T222847Z
LAST-MODIFIED:20250629T222847Z
UID:8939-1753176600-1753187400@www.tarasub.it
SUMMARY:Passeggiata Gommone Avvistamento Delfini e Snorkeling
DESCRIPTION:Luogo incontro: Cantiere navale Cantieri Del Sud\, Viale Jonio\, 150\, 74123 Taranto TA \nLeggi i dettagli dell’escursione \n  \nPer informazioni e prenotazioni contattare Luigi allo 3687787407
URL:https://www.tarasub.it/immersione/passeggiata-gommone-avvistamento-delfini-e-snorkeling-229/
LOCATION:Golfo di Taranto
CATEGORIES:Avvistamento delfini
ORGANIZER;CN="Taras Sub Diving Center":MAILTO:info@tarasub.it
END:VEVENT
BEGIN:VEVENT
DTSTART;TZID=Europe/Rome:20250721T093000
DTEND;TZID=Europe/Rome:20250721T123000
DTSTAMP:20260419T154558
CREATED:20250629T222802Z
LAST-MODIFIED:20250629T222802Z
UID:8938-1753090200-1753101000@www.tarasub.it
SUMMARY:Passeggiata Gommone Avvistamento Delfini e Snorkeling
DESCRIPTION:Luogo incontro: Cantiere navale Cantieri Del Sud\, Viale Jonio\, 150\, 74123 Taranto TA \nLeggi i dettagli dell’escursione \n  \nPer informazioni e prenotazioni contattare Luigi allo 3687787407
URL:https://www.tarasub.it/immersione/passeggiata-gommone-avvistamento-delfini-e-snorkeling-228/
LOCATION:Golfo di Taranto
CATEGORIES:Avvistamento delfini
ORGANIZER;CN="Taras Sub Diving Center":MAILTO:info@tarasub.it
END:VEVENT
BEGIN:VEVENT
DTSTART;TZID=Europe/Rome:20250720T093000
DTEND;TZID=Europe/Rome:20250720T123000
DTSTAMP:20260419T154558
CREATED:20250629T222726Z
LAST-MODIFIED:20250629T222726Z
UID:8937-1753003800-1753014600@www.tarasub.it
SUMMARY:Passeggiata Gommone Avvistamento Delfini e Snorkeling
DESCRIPTION:Luogo incontro: Cantiere navale Cantieri Del Sud\, Viale Jonio\, 150\, 74123 Taranto TA \nLeggi i dettagli dell’escursione \n  \nPer informazioni e prenotazioni contattare Luigi allo 3687787407
URL:https://www.tarasub.it/immersione/passeggiata-gommone-avvistamento-delfini-e-snorkeling-227/
LOCATION:Golfo di Taranto
CATEGORIES:Avvistamento delfini
ORGANIZER;CN="Taras Sub Diving Center":MAILTO:info@tarasub.it
END:VEVENT
BEGIN:VEVENT
DTSTART;TZID=Europe/Rome:20250720T090000
DTEND;TZID=Europe/Rome:20250720T110000
DTSTAMP:20260419T154558
CREATED:20250506T222154Z
LAST-MODIFIED:20250711T204851Z
UID:8602-1753002000-1753009200@www.tarasub.it
SUMMARY:Immersione gommone per brevetti Open
DESCRIPTION:Luogo incontro: Interno Porto Turistico Box 1 Pontile D\,  Campomarino di Maruggio\, 74020 Taranto (TA) \nLeggi i dettagli del punto di immersione \n 
URL:https://www.tarasub.it/immersione/immersione-gommone-per-brevetti-open-57/
LOCATION:taranto
CATEGORIES:Gommone
ORGANIZER;CN="Taras Sub Diving Center":MAILTO:info@tarasub.it
END:VEVENT
BEGIN:VEVENT
DTSTART;TZID=Europe/Rome:20250719T093000
DTEND;TZID=Europe/Rome:20250719T123000
DTSTAMP:20260419T154558
CREATED:20250629T222654Z
LAST-MODIFIED:20250629T222654Z
UID:8936-1752917400-1752928200@www.tarasub.it
SUMMARY:Passeggiata Gommone Avvistamento Delfini e Snorkeling
DESCRIPTION:Luogo incontro: Cantiere navale Cantieri Del Sud\, Viale Jonio\, 150\, 74123 Taranto TA \nLeggi i dettagli dell’escursione \n  \nPer informazioni e prenotazioni contattare Luigi allo 3687787407
URL:https://www.tarasub.it/immersione/passeggiata-gommone-avvistamento-delfini-e-snorkeling-226/
LOCATION:Golfo di Taranto
CATEGORIES:Avvistamento delfini
ORGANIZER;CN="Taras Sub Diving Center":MAILTO:info@tarasub.it
END:VEVENT
BEGIN:VEVENT
DTSTART;TZID=Europe/Rome:20250719T090000
DTEND;TZID=Europe/Rome:20250719T110000
DTSTAMP:20260419T154558
CREATED:20250506T215722Z
LAST-MODIFIED:20250711T204900Z
UID:8598-1752915600-1752922800@www.tarasub.it
SUMMARY:Immersione gommone per brevetti Open
DESCRIPTION:Luogo incontro: Interno Porto Turistico Box 1 Pontile D\,  Campomarino di Maruggio\, 74020 Taranto (TA) \nLeggi i dettagli del punto di immersione \n 
URL:https://www.tarasub.it/immersione/immersione-gommone-per-brevetti-open-56/
LOCATION:taranto
CATEGORIES:Gommone
ORGANIZER;CN="Taras Sub Diving Center":MAILTO:info@tarasub.it
END:VEVENT
BEGIN:VEVENT
DTSTART;TZID=Europe/Rome:20250718T093000
DTEND;TZID=Europe/Rome:20250718T123000
DTSTAMP:20260419T154558
CREATED:20250629T222626Z
LAST-MODIFIED:20250629T222626Z
UID:8935-1752831000-1752841800@www.tarasub.it
SUMMARY:Passeggiata Gommone Avvistamento Delfini e Snorkeling
DESCRIPTION:Luogo incontro: Cantiere navale Cantieri Del Sud\, Viale Jonio\, 150\, 74123 Taranto TA \nLeggi i dettagli dell’escursione \n  \nPer informazioni e prenotazioni contattare Luigi allo 3687787407
URL:https://www.tarasub.it/immersione/passeggiata-gommone-avvistamento-delfini-e-snorkeling-225/
LOCATION:Golfo di Taranto
CATEGORIES:Avvistamento delfini
ORGANIZER;CN="Taras Sub Diving Center":MAILTO:info@tarasub.it
END:VEVENT
BEGIN:VEVENT
DTSTART;TZID=Europe/Rome:20250717T093000
DTEND;TZID=Europe/Rome:20250717T123000
DTSTAMP:20260419T154558
CREATED:20250629T222547Z
LAST-MODIFIED:20250629T222547Z
UID:8934-1752744600-1752755400@www.tarasub.it
SUMMARY:Passeggiata Gommone Avvistamento Delfini e Snorkeling
DESCRIPTION:Luogo incontro: Cantiere navale Cantieri Del Sud\, Viale Jonio\, 150\, 74123 Taranto TA \nLeggi i dettagli dell’escursione \n  \nPer informazioni e prenotazioni contattare Luigi allo 3687787407
URL:https://www.tarasub.it/immersione/passeggiata-gommone-avvistamento-delfini-e-snorkeling-224/
LOCATION:Golfo di Taranto
CATEGORIES:Avvistamento delfini
ORGANIZER;CN="Taras Sub Diving Center":MAILTO:info@tarasub.it
END:VEVENT
END:VCALENDAR