BEGIN:VCALENDAR
VERSION:2.0
PRODID:-//Taras Sub Diving Center - ECPv6.15.13//NONSGML v1.0//EN
CALSCALE:GREGORIAN
METHOD:PUBLISH
X-WR-CALNAME:Taras Sub Diving Center
X-ORIGINAL-URL:https://www.tarasub.it
X-WR-CALDESC:Eventi per Taras Sub Diving Center
REFRESH-INTERVAL;VALUE=DURATION:PT1H
X-Robots-Tag:noindex
X-PUBLISHED-TTL:PT1H
BEGIN:VTIMEZONE
TZID:Europe/Rome
BEGIN:DAYLIGHT
TZOFFSETFROM:+0100
TZOFFSETTO:+0200
TZNAME:CEST
DTSTART:20240331T010000
END:DAYLIGHT
BEGIN:STANDARD
TZOFFSETFROM:+0200
TZOFFSETTO:+0100
TZNAME:CET
DTSTART:20241027T010000
END:STANDARD
BEGIN:DAYLIGHT
TZOFFSETFROM:+0100
TZOFFSETTO:+0200
TZNAME:CEST
DTSTART:20250330T010000
END:DAYLIGHT
BEGIN:STANDARD
TZOFFSETFROM:+0200
TZOFFSETTO:+0100
TZNAME:CET
DTSTART:20251026T010000
END:STANDARD
BEGIN:DAYLIGHT
TZOFFSETFROM:+0100
TZOFFSETTO:+0200
TZNAME:CEST
DTSTART:20260329T010000
END:DAYLIGHT
BEGIN:STANDARD
TZOFFSETFROM:+0200
TZOFFSETTO:+0100
TZNAME:CET
DTSTART:20261025T010000
END:STANDARD
END:VTIMEZONE
BEGIN:VEVENT
DTSTART;TZID=Europe/Rome:20250708T093000
DTEND;TZID=Europe/Rome:20250708T123000
DTSTAMP:20260419T233226
CREATED:20250629T221829Z
LAST-MODIFIED:20250629T221829Z
UID:8918-1751967000-1751977800@www.tarasub.it
SUMMARY:Passeggiata Gommone Avvistamento Delfini e Snorkeling
DESCRIPTION:Luogo incontro: Cantiere navale Cantieri Del Sud\, Viale Jonio\, 150\, 74123 Taranto TA \nLeggi i dettagli dell’escursione \n  \nPer informazioni e prenotazioni contattare Luigi allo 3687787407
URL:https://www.tarasub.it/immersione/passeggiata-gommone-avvistamento-delfini-e-snorkeling-215/
LOCATION:Golfo di Taranto
CATEGORIES:Avvistamento delfini
ORGANIZER;CN="Taras Sub Diving Center":MAILTO:info@tarasub.it
END:VEVENT
BEGIN:VEVENT
DTSTART;TZID=Europe/Rome:20250707T093000
DTEND;TZID=Europe/Rome:20250707T123000
DTSTAMP:20260419T233226
CREATED:20250629T221542Z
LAST-MODIFIED:20250629T221542Z
UID:8905-1751880600-1751891400@www.tarasub.it
SUMMARY:Passeggiata Gommone Avvistamento Delfini e Snorkeling
DESCRIPTION:Luogo incontro: Cantiere navale Cantieri Del Sud\, Viale Jonio\, 150\, 74123 Taranto TA \nLeggi i dettagli dell’escursione \n  \nPer informazioni e prenotazioni contattare Luigi allo 3687787407
URL:https://www.tarasub.it/immersione/passeggiata-gommone-avvistamento-delfini-e-snorkeling-214/
LOCATION:Golfo di Taranto
CATEGORIES:Avvistamento delfini
ORGANIZER;CN="Taras Sub Diving Center":MAILTO:info@tarasub.it
END:VEVENT
BEGIN:VEVENT
DTSTART;TZID=Europe/Rome:20250706T093000
DTEND;TZID=Europe/Rome:20250706T123000
DTSTAMP:20260419T233226
CREATED:20250629T221507Z
LAST-MODIFIED:20250629T221507Z
UID:8911-1751794200-1751805000@www.tarasub.it
SUMMARY:Passeggiata Gommone Avvistamento Delfini e Snorkeling
DESCRIPTION:Luogo incontro: Cantiere navale Cantieri Del Sud\, Viale Jonio\, 150\, 74123 Taranto TA \nLeggi i dettagli dell’escursione \n  \nPer informazioni e prenotazioni contattare Luigi allo 3687787407
URL:https://www.tarasub.it/immersione/passeggiata-gommone-avvistamento-delfini-e-snorkeling-213/
LOCATION:Golfo di Taranto
CATEGORIES:Avvistamento delfini
ORGANIZER;CN="Taras Sub Diving Center":MAILTO:info@tarasub.it
END:VEVENT
BEGIN:VEVENT
DTSTART;TZID=Europe/Rome:20250706T090000
DTEND;TZID=Europe/Rome:20250706T110000
DTSTAMP:20260419T233226
CREATED:20250506T214748Z
LAST-MODIFIED:20250506T214748Z
UID:8594-1751792400-1751799600@www.tarasub.it
SUMMARY:Immersione gommone per brevetti Open
DESCRIPTION:Luogo incontro: camping Sun Bay sito in Taranto via Lido Bruno località San Vito \nLeggi i dettagli del punto di immersione
URL:https://www.tarasub.it/immersione/immersione-gommone-per-brevetti-open-53/
LOCATION:taranto
CATEGORIES:Gommone
ORGANIZER;CN="Taras Sub Diving Center":MAILTO:info@tarasub.it
END:VEVENT
BEGIN:VEVENT
DTSTART;TZID=Europe/Rome:20250705T093000
DTEND;TZID=Europe/Rome:20250705T123000
DTSTAMP:20260419T233226
CREATED:20250510T204208Z
LAST-MODIFIED:20250510T204208Z
UID:8632-1751707800-1751718600@www.tarasub.it
SUMMARY:Passeggiata Gommone Avvistamento Delfini e Snorkeling
DESCRIPTION:Luogo incontro: Cantiere navale Cantieri Del Sud\, Viale Jonio\, 150\, 74123 Taranto TA \nLeggi i dettagli dell’escursione \n  \nPer informazioni e prenotazioni contattare Luigi allo 3687787407
URL:https://www.tarasub.it/immersione/passeggiata-gommone-avvistamento-delfini-e-snorkeling-172/
LOCATION:Golfo di Taranto
CATEGORIES:Avvistamento delfini
ORGANIZER;CN="Taras Sub Diving Center":MAILTO:info@tarasub.it
END:VEVENT
BEGIN:VEVENT
DTSTART;TZID=Europe/Rome:20250705T090000
DTEND;TZID=Europe/Rome:20250705T110000
DTSTAMP:20260419T233226
CREATED:20250506T214110Z
LAST-MODIFIED:20250506T214110Z
UID:8583-1751706000-1751713200@www.tarasub.it
SUMMARY:Immersione gommone per brevetti Open
DESCRIPTION:Luogo incontro: camping Sun Bay sito in Taranto via Lido Bruno località San Vito \nLeggi i dettagli del punto di immersione
URL:https://www.tarasub.it/immersione/immersione-gommone-per-brevetti-open-51/
LOCATION:taranto
CATEGORIES:Gommone
ORGANIZER;CN="Taras Sub Diving Center":MAILTO:info@tarasub.it
END:VEVENT
BEGIN:VEVENT
DTSTART;TZID=Europe/Rome:20250704T093000
DTEND;TZID=Europe/Rome:20250704T123000
DTSTAMP:20260419T233226
CREATED:20250629T221351Z
LAST-MODIFIED:20250629T221351Z
UID:8910-1751621400-1751632200@www.tarasub.it
SUMMARY:Passeggiata Gommone Avvistamento Delfini e Snorkeling
DESCRIPTION:Luogo incontro: Cantiere navale Cantieri Del Sud\, Viale Jonio\, 150\, 74123 Taranto TA \nLeggi i dettagli dell’escursione \n  \nPer informazioni e prenotazioni contattare Luigi allo 3687787407
URL:https://www.tarasub.it/immersione/passeggiata-gommone-avvistamento-delfini-e-snorkeling-212/
LOCATION:Golfo di Taranto
CATEGORIES:Avvistamento delfini
ORGANIZER;CN="Taras Sub Diving Center":MAILTO:info@tarasub.it
END:VEVENT
BEGIN:VEVENT
DTSTART;TZID=Europe/Rome:20250703T093000
DTEND;TZID=Europe/Rome:20250703T123000
DTSTAMP:20260419T233226
CREATED:20250629T221319Z
LAST-MODIFIED:20250629T221319Z
UID:8909-1751535000-1751545800@www.tarasub.it
SUMMARY:Passeggiata Gommone Avvistamento Delfini e Snorkeling
DESCRIPTION:Luogo incontro: Cantiere navale Cantieri Del Sud\, Viale Jonio\, 150\, 74123 Taranto TA \nLeggi i dettagli dell’escursione \n  \nPer informazioni e prenotazioni contattare Luigi allo 3687787407
URL:https://www.tarasub.it/immersione/passeggiata-gommone-avvistamento-delfini-e-snorkeling-211/
LOCATION:Golfo di Taranto
CATEGORIES:Avvistamento delfini
ORGANIZER;CN="Taras Sub Diving Center":MAILTO:info@tarasub.it
END:VEVENT
BEGIN:VEVENT
DTSTART;TZID=Europe/Rome:20250702T093000
DTEND;TZID=Europe/Rome:20250702T123000
DTSTAMP:20260419T233226
CREATED:20250629T221246Z
LAST-MODIFIED:20250629T221246Z
UID:8908-1751448600-1751459400@www.tarasub.it
SUMMARY:Passeggiata Gommone Avvistamento Delfini e Snorkeling
DESCRIPTION:Luogo incontro: Cantiere navale Cantieri Del Sud\, Viale Jonio\, 150\, 74123 Taranto TA \nLeggi i dettagli dell’escursione \n  \nPer informazioni e prenotazioni contattare Luigi allo 3687787407
URL:https://www.tarasub.it/immersione/passeggiata-gommone-avvistamento-delfini-e-snorkeling-210/
LOCATION:Golfo di Taranto
CATEGORIES:Avvistamento delfini
ORGANIZER;CN="Taras Sub Diving Center":MAILTO:info@tarasub.it
END:VEVENT
BEGIN:VEVENT
DTSTART;TZID=Europe/Rome:20250701T093000
DTEND;TZID=Europe/Rome:20250701T123000
DTSTAMP:20260419T233226
CREATED:20250629T221212Z
LAST-MODIFIED:20250629T221212Z
UID:8907-1751362200-1751373000@www.tarasub.it
SUMMARY:Passeggiata Gommone Avvistamento Delfini e Snorkeling
DESCRIPTION:Luogo incontro: Cantiere navale Cantieri Del Sud\, Viale Jonio\, 150\, 74123 Taranto TA \nLeggi i dettagli dell’escursione \n  \nPer informazioni e prenotazioni contattare Luigi allo 3687787407
URL:https://www.tarasub.it/immersione/passeggiata-gommone-avvistamento-delfini-e-snorkeling-209/
LOCATION:Golfo di Taranto
CATEGORIES:Avvistamento delfini
ORGANIZER;CN="Taras Sub Diving Center":MAILTO:info@tarasub.it
END:VEVENT
BEGIN:VEVENT
DTSTART;TZID=Europe/Rome:20250629T093000
DTEND;TZID=Europe/Rome:20250629T123000
DTSTAMP:20260419T233226
CREATED:20250510T203812Z
LAST-MODIFIED:20250510T203812Z
UID:8623-1751189400-1751200200@www.tarasub.it
SUMMARY:Passeggiata Gommone Avvistamento Delfini e Snorkeling
DESCRIPTION:Luogo incontro: Cantiere navale Cantieri Del Sud\, Viale Jonio\, 150\, 74123 Taranto TA \nLeggi i dettagli dell’escursione \n  \nPer informazioni e prenotazioni contattare Luigi allo 3687787407
URL:https://www.tarasub.it/immersione/passeggiata-gommone-avvistamento-delfini-e-snorkeling-171/
LOCATION:Golfo di Taranto
CATEGORIES:Avvistamento delfini
ORGANIZER;CN="Taras Sub Diving Center":MAILTO:info@tarasub.it
END:VEVENT
BEGIN:VEVENT
DTSTART;TZID=Europe/Rome:20250629T090000
DTEND;TZID=Europe/Rome:20250629T110000
DTSTAMP:20260419T233226
CREATED:20250506T214020Z
LAST-MODIFIED:20250506T214020Z
UID:8582-1751187600-1751194800@www.tarasub.it
SUMMARY:Immersione gommone per brevetti Open
DESCRIPTION:Luogo incontro: camping Sun Bay sito in Taranto via Lido Bruno località San Vito \nLeggi i dettagli del punto di immersione
URL:https://www.tarasub.it/immersione/immersione-gommone-per-brevetti-open-50/
LOCATION:taranto
CATEGORIES:Gommone
ORGANIZER;CN="Taras Sub Diving Center":MAILTO:info@tarasub.it
END:VEVENT
BEGIN:VEVENT
DTSTART;TZID=Europe/Rome:20250628T093000
DTEND;TZID=Europe/Rome:20250628T123000
DTSTAMP:20260419T233226
CREATED:20250510T203703Z
LAST-MODIFIED:20250510T203703Z
UID:8622-1751103000-1751113800@www.tarasub.it
SUMMARY:Passeggiata Gommone Avvistamento Delfini e Snorkeling
DESCRIPTION:Luogo incontro: Cantiere navale Cantieri Del Sud\, Viale Jonio\, 150\, 74123 Taranto TA \nLeggi i dettagli dell’escursione \nPer informazioni e prenotazioni contattare Luigi allo 3687787407
URL:https://www.tarasub.it/immersione/passeggiata-gommone-avvistamento-delfini-e-snorkeling-170/
LOCATION:Golfo di Taranto
CATEGORIES:Avvistamento delfini
ORGANIZER;CN="Taras Sub Diving Center":MAILTO:info@tarasub.it
END:VEVENT
BEGIN:VEVENT
DTSTART;TZID=Europe/Rome:20250628T090000
DTEND;TZID=Europe/Rome:20250628T110000
DTSTAMP:20260419T233226
CREATED:20250506T213919Z
LAST-MODIFIED:20250506T213919Z
UID:8581-1751101200-1751108400@www.tarasub.it
SUMMARY:Immersione gommone per brevetti Open
DESCRIPTION:Luogo incontro: camping Sun Bay sito in Taranto via Lido Bruno località San Vito \nLeggi i dettagli del punto di immersione
URL:https://www.tarasub.it/immersione/immersione-gommone-per-brevetti-open-49/
LOCATION:taranto
CATEGORIES:Gommone
ORGANIZER;CN="Taras Sub Diving Center":MAILTO:info@tarasub.it
END:VEVENT
BEGIN:VEVENT
DTSTART;TZID=Europe/Rome:20250622T093000
DTEND;TZID=Europe/Rome:20250622T123000
DTSTAMP:20260419T233226
CREATED:20250510T203558Z
LAST-MODIFIED:20250510T203558Z
UID:8621-1750584600-1750595400@www.tarasub.it
SUMMARY:Passeggiata Gommone Avvistamento Delfini e Snorkeling
DESCRIPTION:Luogo incontro: Cantiere navale Cantieri Del Sud\, Viale Jonio\, 150\, 74123 Taranto TA \nLeggi i dettagli dell’escursione \n  \nPer informazioni e prenotazioni contattare Luigi allo 3687787407
URL:https://www.tarasub.it/immersione/passeggiata-gommone-avvistamento-delfini-e-snorkeling-169/
LOCATION:Golfo di Taranto
CATEGORIES:Avvistamento delfini
ORGANIZER;CN="Taras Sub Diving Center":MAILTO:info@tarasub.it
END:VEVENT
BEGIN:VEVENT
DTSTART;TZID=Europe/Rome:20250622T090000
DTEND;TZID=Europe/Rome:20250622T110000
DTSTAMP:20260419T233226
CREATED:20250506T213827Z
LAST-MODIFIED:20250506T213827Z
UID:8580-1750582800-1750590000@www.tarasub.it
SUMMARY:Immersione gommone per brevetti Open
DESCRIPTION:Luogo incontro: camping Sun Bay sito in Taranto via Lido Bruno località San Vito \nLeggi i dettagli del punto di immersione
URL:https://www.tarasub.it/immersione/immersione-gommone-per-brevetti-open-48/
LOCATION:taranto
CATEGORIES:Gommone
ORGANIZER;CN="Taras Sub Diving Center":MAILTO:info@tarasub.it
END:VEVENT
BEGIN:VEVENT
DTSTART;TZID=Europe/Rome:20250621T093000
DTEND;TZID=Europe/Rome:20250621T123000
DTSTAMP:20260419T233226
CREATED:20250510T203459Z
LAST-MODIFIED:20250510T203459Z
UID:8620-1750498200-1750509000@www.tarasub.it
SUMMARY:Passeggiata Gommone Avvistamento Delfini e Snorkeling
DESCRIPTION:Luogo incontro: Cantiere navale Cantieri Del Sud\, Viale Jonio\, 150\, 74123 Taranto TA \nLeggi i dettagli dell’escursione \n  \nPer informazioni e prenotazioni contattare Luigi allo 3687787407
URL:https://www.tarasub.it/immersione/passeggiata-gommone-avvistamento-delfini-e-snorkeling-168/
LOCATION:Golfo di Taranto
CATEGORIES:Avvistamento delfini
ORGANIZER;CN="Taras Sub Diving Center":MAILTO:info@tarasub.it
END:VEVENT
BEGIN:VEVENT
DTSTART;TZID=Europe/Rome:20250621T090000
DTEND;TZID=Europe/Rome:20250621T110000
DTSTAMP:20260419T233226
CREATED:20250506T213735Z
LAST-MODIFIED:20250506T213735Z
UID:8579-1750496400-1750503600@www.tarasub.it
SUMMARY:Immersione gommone per brevetti Open
DESCRIPTION:Luogo incontro: camping Sun Bay sito in Taranto via Lido Bruno località San Vito \nLeggi i dettagli del punto di immersione
URL:https://www.tarasub.it/immersione/immersione-gommone-per-brevetti-open-47/
LOCATION:taranto
CATEGORIES:Gommone
ORGANIZER;CN="Taras Sub Diving Center":MAILTO:info@tarasub.it
END:VEVENT
BEGIN:VEVENT
DTSTART;TZID=Europe/Rome:20250615T093000
DTEND;TZID=Europe/Rome:20250615T123000
DTSTAMP:20260419T233226
CREATED:20250510T203113Z
LAST-MODIFIED:20250510T203415Z
UID:8619-1749979800-1749990600@www.tarasub.it
SUMMARY:Passeggiata Gommone Avvistamento Delfini e Snorkeling
DESCRIPTION:Luogo incontro: Cantiere navale Cantieri Del Sud\, Viale Jonio\, 150\, 74123 Taranto TA \nLeggi i dettagli dell’escursione \n  \nPer informazioni e prenotazioni contattare Luigi allo 3687787407
URL:https://www.tarasub.it/immersione/passeggiata-gommone-avvistamento-delfini-e-snorkeling-167/
LOCATION:Golfo di Taranto
CATEGORIES:Avvistamento delfini
ORGANIZER;CN="Taras Sub Diving Center":MAILTO:info@tarasub.it
END:VEVENT
BEGIN:VEVENT
DTSTART;TZID=Europe/Rome:20250615T090000
DTEND;TZID=Europe/Rome:20250615T110000
DTSTAMP:20260419T233226
CREATED:20250506T213645Z
LAST-MODIFIED:20250506T213645Z
UID:8578-1749978000-1749985200@www.tarasub.it
SUMMARY:Immersione gommone per brevetti Open
DESCRIPTION:Luogo incontro: camping Sun Bay sito in Taranto via Lido Bruno località San Vito \nLeggi i dettagli del punto di immersione
URL:https://www.tarasub.it/immersione/immersione-gommone-per-brevetti-open-46/
LOCATION:taranto
CATEGORIES:Gommone
ORGANIZER;CN="Taras Sub Diving Center":MAILTO:info@tarasub.it
END:VEVENT
BEGIN:VEVENT
DTSTART;TZID=Europe/Rome:20250614T093000
DTEND;TZID=Europe/Rome:20250614T123000
DTSTAMP:20260419T233226
CREATED:20250510T203029Z
LAST-MODIFIED:20250510T203029Z
UID:8618-1749893400-1749904200@www.tarasub.it
SUMMARY:Passeggiata Gommone Avvistamento Delfini e Snorkeling
DESCRIPTION:Luogo incontro: Cantiere navale Cantieri Del Sud\, Viale Jonio\, 150\, 74123 Taranto TA \nLeggi i dettagli dell’escursione \n  \nPer informazioni e prenotazioni contattare Luigi allo 3687787407
URL:https://www.tarasub.it/immersione/passeggiata-gommone-avvistamento-delfini-e-snorkeling-166/
LOCATION:Golfo di Taranto
CATEGORIES:Avvistamento delfini
ORGANIZER;CN="Taras Sub Diving Center":MAILTO:info@tarasub.it
END:VEVENT
BEGIN:VEVENT
DTSTART;TZID=Europe/Rome:20250614T090000
DTEND;TZID=Europe/Rome:20250614T110000
DTSTAMP:20260419T233226
CREATED:20250506T213532Z
LAST-MODIFIED:20250506T213532Z
UID:8577-1749891600-1749898800@www.tarasub.it
SUMMARY:Immersione gommone per brevetti Open
DESCRIPTION:Luogo incontro: camping Sun Bay sito in Taranto via Lido Bruno località San Vito \nLeggi i dettagli del punto di immersione
URL:https://www.tarasub.it/immersione/immersione-gommone-per-brevetti-open-45/
LOCATION:taranto
CATEGORIES:Gommone
ORGANIZER;CN="Taras Sub Diving Center":MAILTO:info@tarasub.it
END:VEVENT
BEGIN:VEVENT
DTSTART;TZID=Europe/Rome:20250608T090000
DTEND;TZID=Europe/Rome:20250608T110000
DTSTAMP:20260419T233226
CREATED:20250506T213433Z
LAST-MODIFIED:20250506T213433Z
UID:8576-1749373200-1749380400@www.tarasub.it
SUMMARY:Immersione gommone per brevetti Open
DESCRIPTION:Luogo incontro: camping Sun Bay sito in Taranto via Lido Bruno località San Vito \nLeggi i dettagli del punto di immersione
URL:https://www.tarasub.it/immersione/immersione-gommone-per-brevetti-open-44/
LOCATION:taranto
CATEGORIES:Gommone
ORGANIZER;CN="Taras Sub Diving Center":MAILTO:info@tarasub.it
END:VEVENT
BEGIN:VEVENT
DTSTART;TZID=Europe/Rome:20250607T090000
DTEND;TZID=Europe/Rome:20250607T110000
DTSTAMP:20260419T233226
CREATED:20250506T213354Z
LAST-MODIFIED:20250506T213354Z
UID:8575-1749286800-1749294000@www.tarasub.it
SUMMARY:Immersione gommone per brevetti Open
DESCRIPTION:Luogo incontro: camping Sun Bay sito in Taranto via Lido Bruno località San Vito \nLeggi i dettagli del punto di immersione
URL:https://www.tarasub.it/immersione/immersione-gommone-per-brevetti-open-43/
LOCATION:taranto
CATEGORIES:Gommone
ORGANIZER;CN="Taras Sub Diving Center":MAILTO:info@tarasub.it
END:VEVENT
BEGIN:VEVENT
DTSTART;TZID=Europe/Rome:20250602T090000
DTEND;TZID=Europe/Rome:20250602T110000
DTSTAMP:20260419T233226
CREATED:20250506T211958Z
LAST-MODIFIED:20250506T211958Z
UID:8557-1748854800-1748862000@www.tarasub.it
SUMMARY:Immersione gommone per brevetti Open
DESCRIPTION:Luogo incontro: camping Sun Bay sito in Taranto via Lido Bruno località San Vito \nLeggi i dettagli del punto di immersione
URL:https://www.tarasub.it/immersione/immersione-gommone-per-brevetti-open-42/
LOCATION:taranto
CATEGORIES:Gommone
ORGANIZER;CN="Taras Sub Diving Center":MAILTO:info@tarasub.it
END:VEVENT
BEGIN:VEVENT
DTSTART;TZID=Europe/Rome:20250601T090000
DTEND;TZID=Europe/Rome:20250601T110000
DTSTAMP:20260419T233227
CREATED:20250506T211903Z
LAST-MODIFIED:20250506T211903Z
UID:8565-1748768400-1748775600@www.tarasub.it
SUMMARY:Immersione gommone per brevetti Open
DESCRIPTION:Luogo incontro: camping Sun Bay sito in Taranto via Lido Bruno località San Vito \nLeggi i dettagli del punto di immersione
URL:https://www.tarasub.it/immersione/immersione-gommone-per-brevetti-open-41/
LOCATION:taranto
CATEGORIES:Gommone
ORGANIZER;CN="Taras Sub Diving Center":MAILTO:info@tarasub.it
END:VEVENT
BEGIN:VEVENT
DTSTART;TZID=Europe/Rome:20250531T090000
DTEND;TZID=Europe/Rome:20250531T110000
DTSTAMP:20260419T233227
CREATED:20250506T211824Z
LAST-MODIFIED:20250506T211824Z
UID:8564-1748682000-1748689200@www.tarasub.it
SUMMARY:Immersione gommone per brevetti Open
DESCRIPTION:Luogo incontro: camping Sun Bay sito in Taranto via Lido Bruno località San Vito \nLeggi i dettagli del punto di immersione
URL:https://www.tarasub.it/immersione/immersione-gommone-per-brevetti-open-40/
LOCATION:taranto
CATEGORIES:Gommone
ORGANIZER;CN="Taras Sub Diving Center":MAILTO:info@tarasub.it
END:VEVENT
BEGIN:VEVENT
DTSTART;TZID=Europe/Rome:20250525T090000
DTEND;TZID=Europe/Rome:20250525T110000
DTSTAMP:20260419T233227
CREATED:20250506T211710Z
LAST-MODIFIED:20250506T211710Z
UID:8563-1748163600-1748170800@www.tarasub.it
SUMMARY:Immersione gommone per brevetti Open
DESCRIPTION:Luogo incontro: camping Sun Bay sito in Taranto via Lido Bruno località San Vito \nLeggi i dettagli del punto di immersione
URL:https://www.tarasub.it/immersione/immersione-gommone-per-brevetti-open-39/
LOCATION:taranto
CATEGORIES:Gommone
ORGANIZER;CN="Taras Sub Diving Center":MAILTO:info@tarasub.it
END:VEVENT
BEGIN:VEVENT
DTSTART;TZID=Europe/Rome:20250524T090000
DTEND;TZID=Europe/Rome:20250524T110000
DTSTAMP:20260419T233227
CREATED:20250506T211624Z
LAST-MODIFIED:20250506T211624Z
UID:8562-1748077200-1748084400@www.tarasub.it
SUMMARY:Immersione gommone per brevetti Open
DESCRIPTION:Luogo incontro: camping Sun Bay sito in Taranto via Lido Bruno località San Vito \nLeggi i dettagli del punto di immersione
URL:https://www.tarasub.it/immersione/immersione-gommone-per-brevetti-open-38/
LOCATION:taranto
CATEGORIES:Gommone
ORGANIZER;CN="Taras Sub Diving Center":MAILTO:info@tarasub.it
END:VEVENT
BEGIN:VEVENT
DTSTART;TZID=Europe/Rome:20250518T090000
DTEND;TZID=Europe/Rome:20250518T110000
DTSTAMP:20260419T233227
CREATED:20250506T211537Z
LAST-MODIFIED:20250506T211537Z
UID:8561-1747558800-1747566000@www.tarasub.it
SUMMARY:Immersione gommone per brevetti Open
DESCRIPTION:Luogo incontro: camping Sun Bay sito in Taranto via Lido Bruno località San Vito \nLeggi i dettagli del punto di immersione
URL:https://www.tarasub.it/immersione/immersione-gommone-per-brevetti-open-37/
CATEGORIES:Gommone
ORGANIZER;CN="Taras Sub Diving Center":MAILTO:info@tarasub.it
END:VEVENT
END:VCALENDAR